BEGIN:VCALENDAR
VERSION:2.0
PRODID:-//Ardantane - ECPv6.15.18//NONSGML v1.0//EN
CALSCALE:GREGORIAN
METHOD:PUBLISH
X-WR-CALNAME:Ardantane
X-ORIGINAL-URL:https://ardantane.org
X-WR-CALDESC:Events for Ardantane
REFRESH-INTERVAL;VALUE=DURATION:PT1H
X-Robots-Tag:noindex
X-PUBLISHED-TTL:PT1H
BEGIN:VTIMEZONE
TZID:America/Denver
BEGIN:DAYLIGHT
TZOFFSETFROM:-0700
TZOFFSETTO:-0600
TZNAME:MDT
DTSTART:20210314T090000
END:DAYLIGHT
BEGIN:STANDARD
TZOFFSETFROM:-0600
TZOFFSETTO:-0700
TZNAME:MST
DTSTART:20211107T080000
END:STANDARD
BEGIN:DAYLIGHT
TZOFFSETFROM:-0700
TZOFFSETTO:-0600
TZNAME:MDT
DTSTART:20220313T090000
END:DAYLIGHT
BEGIN:STANDARD
TZOFFSETFROM:-0600
TZOFFSETTO:-0700
TZNAME:MST
DTSTART:20221106T080000
END:STANDARD
BEGIN:DAYLIGHT
TZOFFSETFROM:-0700
TZOFFSETTO:-0600
TZNAME:MDT
DTSTART:20230312T090000
END:DAYLIGHT
BEGIN:STANDARD
TZOFFSETFROM:-0600
TZOFFSETTO:-0700
TZNAME:MST
DTSTART:20231105T080000
END:STANDARD
BEGIN:DAYLIGHT
TZOFFSETFROM:-0700
TZOFFSETTO:-0600
TZNAME:MDT
DTSTART:20240310T090000
END:DAYLIGHT
BEGIN:STANDARD
TZOFFSETFROM:-0600
TZOFFSETTO:-0700
TZNAME:MST
DTSTART:20241103T080000
END:STANDARD
END:VTIMEZONE
BEGIN:VEVENT
DTSTART;TZID=America/Denver:20231210T160000
DTEND;TZID=America/Denver:20231210T180000
DTSTAMP:20260423T213820
CREATED:20230131T010632Z
LAST-MODIFIED:20230131T010632Z
UID:2116-1702224000-1702231200@ardantane.org
SUMMARY:Circle Meeting December 10
DESCRIPTION:Our Board meetings in 2023 will all be held on Zoom. \nPlease contact amberk1@ardantane.org or call 505-469-7777 for an invitation via email. \nThe members of the Ardantane Circle (the Board\, staff\, faculty\, students\, and anyone else interested in steering Ardantane’s boat) meet every two months to make decisions about the curriculum and the campus. \nCome join us to help us plan Ardantane’s future!
URL:https://ardantane.org/event/circle-meeting-december-10/
LOCATION:Online\, NM\, 87025\, United States
CATEGORIES:Meeting,volunteer opportunity
ATTACH;FMTTYPE=image/jpeg:https://ardantane.org/wp-content/uploads/2022/06/Bredes-Circle.jpg
END:VEVENT
BEGIN:VEVENT
DTSTART;TZID=America/Denver:20231008T160000
DTEND;TZID=America/Denver:20231008T180000
DTSTAMP:20260423T213820
CREATED:20230131T010200Z
LAST-MODIFIED:20230611T233001Z
UID:2114-1696780800-1696788000@ardantane.org
SUMMARY:Circle Meeting October 8
DESCRIPTION:Our Board meetings in 2023 will all be held on Zoom. \nPlease contact amberk1@ardantane.org or call 505-469-7777 for an invitation via email. \nThe members of the Ardantane Circle (the Board\, staff\, faculty\, students\, and anyone else interested in steering Ardantane’s boat) meet every two months to make decisions about the curriculum and the campus. \nCome join us to help us plan Ardantane’s future!
URL:https://ardantane.org/event/circle-meeting-october-15/
LOCATION:Online\, NM\, 87025\, United States
CATEGORIES:Meeting,volunteer opportunity
ATTACH;FMTTYPE=image/jpeg:https://ardantane.org/wp-content/uploads/2022/06/Bredes-Circle.jpg
END:VEVENT
BEGIN:VEVENT
DTSTART;TZID=America/Denver:20230813T160000
DTEND;TZID=America/Denver:20230813T180000
DTSTAMP:20260423T213820
CREATED:20230131T005649Z
LAST-MODIFIED:20230131T005649Z
UID:2111-1691942400-1691949600@ardantane.org
SUMMARY:Circle Meeting August 13
DESCRIPTION:Our Board meetings in 2023 will all be held on Zoom. \nPlease contact amberk1@ardantane.org or call 505-469-7777 for an invitation via email. \nThe members of the Ardantane Circle (the Board\, staff\, faculty\, students\, and anyone else interested in steering Ardantane’s boat) meet every two months to make decisions about the curriculum and the campus. \nCome join us to help us plan Ardantane’s future! \nCall or write for the link to the meetings\, registration@ardantane.org or 505-469-777
URL:https://ardantane.org/event/circle-meeting-august-13/
LOCATION:Online\, NM\, 87025\, United States
CATEGORIES:Meeting
ATTACH;FMTTYPE=image/jpeg:https://ardantane.org/wp-content/uploads/2022/06/Bredes-Circle.jpg
END:VEVENT
BEGIN:VEVENT
DTSTART;TZID=America/Denver:20230611T160000
DTEND;TZID=America/Denver:20230611T180000
DTSTAMP:20260423T213820
CREATED:20230131T004626Z
LAST-MODIFIED:20230131T005045Z
UID:2107-1686499200-1686506400@ardantane.org
SUMMARY:Circle Meeting June 11
DESCRIPTION:Our Board meetings in 2023 will all be held on Zoom. \nPlease contact amberk1@ardantane.org or call 505-469-7777 for an invitation via email. \nThe members of the Ardantane Circle (the Board\, staff\, faculty\, students\, and anyone else interested in steering Ardantane’s boat) meet every two months to make decisions about the curriculum and the campus. \nCome join us to help us plan Ardantane’s future! \nCall or write for the link to the meetings\, registration@ardantane.org or 505-469-777
URL:https://ardantane.org/event/circle-meeting-june-11/
LOCATION:Online\, NM\, 87025\, United States
CATEGORIES:Meeting
ATTACH;FMTTYPE=image/jpeg:https://ardantane.org/wp-content/uploads/2022/06/Bredes-Circle.jpg
END:VEVENT
BEGIN:VEVENT
DTSTART;TZID=America/Denver:20230409T160000
DTEND;TZID=America/Denver:20230409T180000
DTSTAMP:20260423T213820
CREATED:20230131T004054Z
LAST-MODIFIED:20230131T005003Z
UID:2105-1681056000-1681063200@ardantane.org
SUMMARY:Circle Meeting April 9
DESCRIPTION:Our Board meetings in 2023 will all be held on Zoom. \nPlease contact amberk1@ardantane.org or call 505-469-7777 for an invitation via email. \nThe members of the Ardantane Circle (the Board\, staff\, faculty\, students\, and anyone else interested in steering Ardantane’s boat) meet every two months to make decisions about the curriculum and the campus. \nCome join us to help us plan Ardantane’s future! \nCall or write for the link to the meetings\, registration@ardantane.org or 505-469-777 \nBlessed Be\,\nAmber K\, Executive Director
URL:https://ardantane.org/event/circle-meeting/
LOCATION:Online\, NM\, 87025\, United States
CATEGORIES:Meeting
ATTACH;FMTTYPE=image/jpeg:https://ardantane.org/wp-content/uploads/2022/06/Bredes-Circle.jpg
END:VEVENT
BEGIN:VEVENT
DTSTART;TZID=America/Denver:20230219T160000
DTEND;TZID=America/Denver:20230219T180000
DTSTAMP:20260423T213820
CREATED:20230130T235640Z
LAST-MODIFIED:20230131T004636Z
UID:2099-1676822400-1676829600@ardantane.org
SUMMARY:Circle Meeting February 19
DESCRIPTION:Our Board meetings in 2023 will all be held on Zoom. \nPlease contact amberk1@ardantane.org or call 505-469-7777 for an invitation via email. \nThe members of the Ardantane Circle (the Board\, staff\, faculty\, students\, and anyone else interested in steering Ardantane’s boat) meet every two months to make decisions about the curriculum and the campus. \nCome join us to help us plan Ardantane’s future! \nCall or write for the link to the meetings\, registration@ardantane.org or 505-469-777
URL:https://ardantane.org/event/circle-meeting-february-19/
LOCATION:Online\, NM\, 87025\, United States
CATEGORIES:Meeting
ATTACH;FMTTYPE=image/jpeg:https://ardantane.org/wp-content/uploads/2022/06/Bredes-Circle.jpg
END:VEVENT
BEGIN:VEVENT
DTSTART;TZID=America/Denver:20221218T160000
DTEND;TZID=America/Denver:20221218T190000
DTSTAMP:20260423T213820
CREATED:20220614T031107Z
LAST-MODIFIED:20220614T031107Z
UID:1348-1671379200-1671390000@ardantane.org
SUMMARY:Ardantane Circle Meeting
DESCRIPTION:The members of the Ardantane Circle meet every two months via Zoom to make decisions about the curriculum and the campus. \nCome join us to help us plan for Ardantane’s future.
URL:https://ardantane.org/event/ardantane-circle-meeting-4/
LOCATION:Online\, NM\, 87025\, United States
CATEGORIES:Meeting
ATTACH;FMTTYPE=image/jpeg:https://ardantane.org/wp-content/uploads/2022/06/Bredes-Circle.jpg
END:VEVENT
BEGIN:VEVENT
DTSTART;TZID=America/Denver:20221016T160000
DTEND;TZID=America/Denver:20221016T190000
DTSTAMP:20260423T213820
CREATED:20220614T030103Z
LAST-MODIFIED:20220614T030103Z
UID:1342-1665936000-1665946800@ardantane.org
SUMMARY:Ardantane Circle Meeting
DESCRIPTION:The members of the Ardantane Circle meet every two months via Zoom to make decisions about the curriculum and the campus. \nCome join us to help us plan for Ardantane’s future.
URL:https://ardantane.org/event/ardantane-circle-meeting-3/
LOCATION:Online\, NM\, 87025\, United States
CATEGORIES:Meeting
ATTACH;FMTTYPE=image/jpeg:https://ardantane.org/wp-content/uploads/2022/06/Bredes-Circle.jpg
END:VEVENT
BEGIN:VEVENT
DTSTART;TZID=America/Denver:20220821T160000
DTEND;TZID=America/Denver:20220821T180000
DTSTAMP:20260423T213820
CREATED:20220614T024313Z
LAST-MODIFIED:20220614T024313Z
UID:1336-1661097600-1661104800@ardantane.org
SUMMARY:Ardantane Circle Meeting
DESCRIPTION:The members of the Ardantane Circle meet every two months via Zoom to make decisions about the curriculum and the campus. \nCome join us to help us plan for Ardantane’s future. \nCall 505-469-7777 or write to director@ardantane.org for the Zoom link.
URL:https://ardantane.org/event/ardantane-circle-meeting-2/
LOCATION:Online\, NM\, 87025\, United States
CATEGORIES:Meeting
ATTACH;FMTTYPE=image/jpeg:https://ardantane.org/wp-content/uploads/2022/06/Bredes-Circle.jpg
END:VEVENT
BEGIN:VEVENT
DTSTART;TZID=America/Denver:20220619T150000
DTEND;TZID=America/Denver:20220619T180000
DTSTAMP:20260423T213820
CREATED:20220603T001436Z
LAST-MODIFIED:20220603T002229Z
UID:1168-1655650800-1655661600@ardantane.org
SUMMARY:Ardantane Circle Meeting
DESCRIPTION:The members of the Ardantane Circle meet every two months via Zoom to make decisions about the curriculum and the campus. \nCome join us to help us plan for Ardantane’s future. \nCall 505-469-7777 or write to director@ardantane.org for the Zoom link.
URL:https://ardantane.org/event/ardantane-circle-meeting/
LOCATION:Online\, NM\, 87025\, United States
CATEGORIES:Meeting
ATTACH;FMTTYPE=image/jpeg:https://ardantane.org/wp-content/uploads/2022/06/Bredes-Circle.jpg
END:VEVENT
END:VCALENDAR