BEGIN:VCALENDAR
VERSION:2.0
PRODID:-//Ardantane - ECPv6.15.18//NONSGML v1.0//EN
CALSCALE:GREGORIAN
METHOD:PUBLISH
X-WR-CALNAME:Ardantane
X-ORIGINAL-URL:https://ardantane.org
X-WR-CALDESC:Events for Ardantane
REFRESH-INTERVAL;VALUE=DURATION:PT1H
X-Robots-Tag:noindex
X-PUBLISHED-TTL:PT1H
BEGIN:VTIMEZONE
TZID:America/Denver
BEGIN:DAYLIGHT
TZOFFSETFROM:-0700
TZOFFSETTO:-0600
TZNAME:MDT
DTSTART:20240310T090000
END:DAYLIGHT
BEGIN:STANDARD
TZOFFSETFROM:-0600
TZOFFSETTO:-0700
TZNAME:MST
DTSTART:20241103T080000
END:STANDARD
BEGIN:DAYLIGHT
TZOFFSETFROM:-0700
TZOFFSETTO:-0600
TZNAME:MDT
DTSTART:20250309T090000
END:DAYLIGHT
BEGIN:STANDARD
TZOFFSETFROM:-0600
TZOFFSETTO:-0700
TZNAME:MST
DTSTART:20251102T080000
END:STANDARD
BEGIN:DAYLIGHT
TZOFFSETFROM:-0700
TZOFFSETTO:-0600
TZNAME:MDT
DTSTART:20260308T090000
END:DAYLIGHT
BEGIN:STANDARD
TZOFFSETFROM:-0600
TZOFFSETTO:-0700
TZNAME:MST
DTSTART:20261101T080000
END:STANDARD
END:VTIMEZONE
BEGIN:VEVENT
DTSTART;TZID=America/Denver:20250621T180000
DTEND;TZID=America/Denver:20250621T210000
DTSTAMP:20260424T074405
CREATED:20241226T234218Z
LAST-MODIFIED:20250406T205807Z
UID:4105-1750528800-1750539600@ardantane.org
SUMMARY:Litha Sabbat at Ardantane
DESCRIPTION:Saturday\, June 21st\, 6:00 pm\, at the Ardantane Campus. Free. \nThere will will songs\, stories\, fellowship and feasting. Bring a potluck dish or beverage. No charge\, though freewill donations are welcome. \nContact info@ardantane.org for directions or more information. You may RSVP below if you like. \nNOTE THAT THIS IS AN IN-PERSON RITUAL.You may also consider attending our online ritual June 13th: https://ardantane.org/event/online-litha-ritual-2025/
URL:https://ardantane.org/event/litha-sabbat-at-ardantane/
LOCATION:Ardantane Campus\, Jemez Pueblo\, NM\, 87025\, United States
CATEGORIES:Rituals
ATTACH;FMTTYPE=image/jpeg:https://ardantane.org/wp-content/uploads/2022/06/Litha-pic.jpg
END:VEVENT
END:VCALENDAR