BEGIN:VCALENDAR
VERSION:2.0
PRODID:-//Ardantane - ECPv6.15.18//NONSGML v1.0//EN
CALSCALE:GREGORIAN
METHOD:PUBLISH
X-ORIGINAL-URL:https://ardantane.org
X-WR-CALDESC:Events for Ardantane
REFRESH-INTERVAL;VALUE=DURATION:PT1H
X-Robots-Tag:noindex
X-PUBLISHED-TTL:PT1H
BEGIN:VTIMEZONE
TZID:America/Denver
BEGIN:DAYLIGHT
TZOFFSETFROM:-0700
TZOFFSETTO:-0600
TZNAME:MDT
DTSTART:20250309T090000
END:DAYLIGHT
BEGIN:STANDARD
TZOFFSETFROM:-0600
TZOFFSETTO:-0700
TZNAME:MST
DTSTART:20251102T080000
END:STANDARD
BEGIN:DAYLIGHT
TZOFFSETFROM:-0700
TZOFFSETTO:-0600
TZNAME:MDT
DTSTART:20260308T090000
END:DAYLIGHT
BEGIN:STANDARD
TZOFFSETFROM:-0600
TZOFFSETTO:-0700
TZNAME:MST
DTSTART:20261101T080000
END:STANDARD
BEGIN:DAYLIGHT
TZOFFSETFROM:-0700
TZOFFSETTO:-0600
TZNAME:MDT
DTSTART:20270314T090000
END:DAYLIGHT
BEGIN:STANDARD
TZOFFSETFROM:-0600
TZOFFSETTO:-0700
TZNAME:MST
DTSTART:20271107T080000
END:STANDARD
END:VTIMEZONE
BEGIN:VEVENT
DTSTART;TZID=America/Denver:20260320T190000
DTEND;TZID=America/Denver:20260320T210000
DTSTAMP:20260423T161016
CREATED:20260201T164936Z
LAST-MODIFIED:20260215T173803Z
UID:4920-1774033200-1774040400@ardantane.org
SUMMARY:Ostara Spring Equinox Online Ritual 2026
DESCRIPTION:Join us for a virtual gathering to honor Ostara\, the Spring Equinox\, a time of balance\, renewal\, and the blossoming of new beginnings. This online ritual will focus on celebrating the vibrant energy of the season as we welcome the return of light and growth. Let’s celebrate the promise of Spring with joy\, hope\, and the magic of renewal! Participants in the Creating Ritual class on February 27th will be helping to design and present this ritual. \nNote that this is an ONLINE ritual. We will also host an in-person Ostara celebration at the Ardantane campus. Details about that celebration are HERE. \nOur journey will be guided by Azrael Arynn K. Azrael Arynn K has been a Wiccan priestess for over thirty years\, and is a celebrated author\, teacher\, and leader within the Pagan community. She has degrees in criminal justice\, law\, and architecture. She is the Dean of the School of Sacred Living and Director of Facilities at Ardantane Pagan school and retreat center\, headquartered in northern New Mexico; see ardantane.org. Azrael and Amber K were handfasted in 1994\, and married a few years later. They write\, travel\, and teach together. Azrael designs\, co-authors\, and edits books with Amber\, including the award-winning books RitualCraft: Creating Rites for Transformation and Celebration; and Pinups Portraits and Posters: The Life and Art of Bill Randall (Amber’s dad). See their other titles at magickwithamberk.com. \n\n\nThis class is free to supporting members of Ardantane.  Others must register below by clicking the Blue GET TICKETS button. The fee is $10. \n\n\n\nRegistration closes at 5PM Mountain Time on Thursday\, March 19th. \nGet Tickets
URL:https://ardantane.org/event/ostara-spring-equinox-online-ritual-2026/
LOCATION:Online\, NM\, 87025\, United States
CATEGORIES:Rituals
ATTACH;FMTTYPE=image/jpeg:https://ardantane.org/wp-content/uploads/2023/12/Ostara-with-rabbits.jpeg
END:VEVENT
END:VCALENDAR