BEGIN:VCALENDAR
VERSION:2.0
PRODID:-//Ardantane - ECPv6.15.18//NONSGML v1.0//EN
CALSCALE:GREGORIAN
METHOD:PUBLISH
X-WR-CALNAME:Ardantane
X-ORIGINAL-URL:https://ardantane.org
X-WR-CALDESC:Events for Ardantane
REFRESH-INTERVAL;VALUE=DURATION:PT1H
X-Robots-Tag:noindex
X-PUBLISHED-TTL:PT1H
BEGIN:VTIMEZONE
TZID:America/Denver
BEGIN:DAYLIGHT
TZOFFSETFROM:-0700
TZOFFSETTO:-0600
TZNAME:MDT
DTSTART:20250309T090000
END:DAYLIGHT
BEGIN:STANDARD
TZOFFSETFROM:-0600
TZOFFSETTO:-0700
TZNAME:MST
DTSTART:20251102T080000
END:STANDARD
BEGIN:DAYLIGHT
TZOFFSETFROM:-0700
TZOFFSETTO:-0600
TZNAME:MDT
DTSTART:20260308T090000
END:DAYLIGHT
BEGIN:STANDARD
TZOFFSETFROM:-0600
TZOFFSETTO:-0700
TZNAME:MST
DTSTART:20261101T080000
END:STANDARD
BEGIN:DAYLIGHT
TZOFFSETFROM:-0700
TZOFFSETTO:-0600
TZNAME:MDT
DTSTART:20270314T090000
END:DAYLIGHT
BEGIN:STANDARD
TZOFFSETFROM:-0600
TZOFFSETTO:-0700
TZNAME:MST
DTSTART:20271107T080000
END:STANDARD
END:VTIMEZONE
BEGIN:VEVENT
DTSTART;TZID=America/Denver:20260131T180000
DTEND;TZID=America/Denver:20260131T210000
DTSTAMP:20260423T201135
CREATED:20251207T002849Z
LAST-MODIFIED:20251228T173923Z
UID:4764-1769882400-1769893200@ardantane.org
SUMMARY:Imbolg Sabbat Ritual at Ardantane
DESCRIPTION:Saturday\, January 31\, 6:00 pm\, at the Ardantane Campus. Free. \nJoin us as we mark the first signs of Spring and honor the Celtic goddess Brigit\, lady of inspiration and poetry\, healing\, and smithcraft. There will will songs\, stories\, fellowship and feasting. Bring a potluck dish or beverage\, and wear red and white if you wish. No charge\, though freewill donations are welcome. \nThere will will songs\, stories\, fellowship and feasting. Bring a potluck dish or beverage. No charge\, though freewill donations are welcome. \nContact info@ardantane.org for directions or more information. You may RSVP below if you like. \nNOTE THAT THIS IS AN IN-PERSON RITUAL. If you are unable to make it to our lovely campus near Jemez Springs\, NM\, consider joining our online ritual on January 3oth. Information for that event is on our website.
URL:https://ardantane.org/event/imbolg-2026/
LOCATION:Ardantane Campus\, Jemez Pueblo\, NM\, 87025\, United States
CATEGORIES:Rituals
ATTACH;FMTTYPE=image/jpeg:https://ardantane.org/wp-content/uploads/2022/02/Imbolc-image.jpg
END:VEVENT
END:VCALENDAR