BEGIN:VCALENDAR
VERSION:2.0
PRODID:-//Ardantane - ECPv6.15.18//NONSGML v1.0//EN
CALSCALE:GREGORIAN
METHOD:PUBLISH
X-WR-CALNAME:Ardantane
X-ORIGINAL-URL:https://ardantane.org
X-WR-CALDESC:Events for Ardantane
REFRESH-INTERVAL;VALUE=DURATION:PT1H
X-Robots-Tag:noindex
X-PUBLISHED-TTL:PT1H
BEGIN:VTIMEZONE
TZID:America/Denver
BEGIN:DAYLIGHT
TZOFFSETFROM:-0700
TZOFFSETTO:-0600
TZNAME:MDT
DTSTART:20250309T090000
END:DAYLIGHT
BEGIN:STANDARD
TZOFFSETFROM:-0600
TZOFFSETTO:-0700
TZNAME:MST
DTSTART:20251102T080000
END:STANDARD
BEGIN:DAYLIGHT
TZOFFSETFROM:-0700
TZOFFSETTO:-0600
TZNAME:MDT
DTSTART:20260308T090000
END:DAYLIGHT
BEGIN:STANDARD
TZOFFSETFROM:-0600
TZOFFSETTO:-0700
TZNAME:MST
DTSTART:20261101T080000
END:STANDARD
BEGIN:DAYLIGHT
TZOFFSETFROM:-0700
TZOFFSETTO:-0600
TZNAME:MDT
DTSTART:20270314T090000
END:DAYLIGHT
BEGIN:STANDARD
TZOFFSETFROM:-0600
TZOFFSETTO:-0700
TZNAME:MST
DTSTART:20271107T080000
END:STANDARD
END:VTIMEZONE
BEGIN:VEVENT
DTSTART;TZID=America/Denver:20260425T180000
DTEND;TZID=America/Denver:20260425T210000
DTSTAMP:20260423T180045
CREATED:20251207T004729Z
LAST-MODIFIED:20251207T004730Z
UID:4770-1777140000-1777150800@ardantane.org
SUMMARY:Beltane Sabbat Ritual at Ardantane
DESCRIPTION:Celebrate Beltane with us as we honor the vibrant fire of spring and the turning of the Wheel toward summer. This joyful ritual welcomes fertility\, creativity\, passion\, and the blossoming energy of the season. Together we will kindle symbolic flames\, bless new beginnings\, and weave community through shared intention. All are welcome—whether seasoned practitioners or first-time participants—to join in this festive moment of connection\, renewal\, and the spark of life that Beltane brings. \nCome celebrate the start of the growing season at the Ardantane campus.  Wear your most festive ritual gear and bring a dish to share for the potluck if you are able. \nMore information is forthcoming. \nContact info@ardantane.org for directions or more information. You may RSVP below if you like. \nNOTE THAT THIS IS AN IN-PERSON RITUAL. If you are unable to make it to our lovely campus near Jemez Springs\, NM\, consider joining our online ritual on May 1st. Information for that event is on our website.
URL:https://ardantane.org/event/beltane-sabbat-ritual-at-ardantane-2026/
LOCATION:Ardantane Campus\, Jemez Pueblo\, NM\, 87025\, United States
ATTACH;FMTTYPE=image/jpeg:https://ardantane.org/wp-content/uploads/2024/02/Beltane-Dancers-Smaller.jpeg
END:VEVENT
END:VCALENDAR