BEGIN:VCALENDAR
VERSION:2.0
PRODID:-//Ardantane - ECPv6.15.18//NONSGML v1.0//EN
CALSCALE:GREGORIAN
METHOD:PUBLISH
X-WR-CALNAME:Ardantane
X-ORIGINAL-URL:https://ardantane.org
X-WR-CALDESC:Events for Ardantane
REFRESH-INTERVAL;VALUE=DURATION:PT1H
X-Robots-Tag:noindex
X-PUBLISHED-TTL:PT1H
BEGIN:VTIMEZONE
TZID:America/Denver
BEGIN:DAYLIGHT
TZOFFSETFROM:-0700
TZOFFSETTO:-0600
TZNAME:MDT
DTSTART:20230312T090000
END:DAYLIGHT
BEGIN:STANDARD
TZOFFSETFROM:-0600
TZOFFSETTO:-0700
TZNAME:MST
DTSTART:20231105T080000
END:STANDARD
BEGIN:DAYLIGHT
TZOFFSETFROM:-0700
TZOFFSETTO:-0600
TZNAME:MDT
DTSTART:20240310T090000
END:DAYLIGHT
BEGIN:STANDARD
TZOFFSETFROM:-0600
TZOFFSETTO:-0700
TZNAME:MST
DTSTART:20241103T080000
END:STANDARD
BEGIN:DAYLIGHT
TZOFFSETFROM:-0700
TZOFFSETTO:-0600
TZNAME:MDT
DTSTART:20250309T090000
END:DAYLIGHT
BEGIN:STANDARD
TZOFFSETFROM:-0600
TZOFFSETTO:-0700
TZNAME:MST
DTSTART:20251102T080000
END:STANDARD
END:VTIMEZONE
BEGIN:VEVENT
DTSTART;TZID=America/Denver:20241101T190000
DTEND;TZID=America/Denver:20241101T210000
DTSTAMP:20260425T210641
CREATED:20240914T181436Z
LAST-MODIFIED:20241014T233637Z
UID:3798-1730487600-1730494800@ardantane.org
SUMMARY:Manannan Mac Lir
DESCRIPTION:Join us for a deep dive into the world of Manannan mac Lir\, the Celtic Lord of the Sea! We will explore the stories\, his magical possessions and abilities\, and how to connect with Manannan in your own practice. \n*This session was cancelled in September and has been rescheduled for November 1st. \nLora Jackson Legare has been a practicing Wiccan for 35 years. She is a professional archaeologist\, professor of anthropology\, artist and writer. She has led numerous public rituals in southern New Mexico and conducted workshops and classes on developing connections with Celtic Goddesses and Gods\, stone magick\, and magickal correspondences\, and led many guided meditations. \n\n\n\nThis class is free to supporting members of Ardantane.  Others must register below. Be sure to add the number of tickets you want before clicking the Blue GET TICKETS button. The fee is $10. \n\n\nRegistration closes at 5PM Mountain Time on Thursday\, October 31st.
URL:https://ardantane.org/event/feronia/
LOCATION:Online\, NM\, 87025\, United States
CATEGORIES:Class Info
ATTACH;FMTTYPE=image/jpeg:https://ardantane.org/wp-content/uploads/2024/08/Manannan-mac-Lir-sculpture.jpg
END:VEVENT
END:VCALENDAR