BEGIN:VCALENDAR
VERSION:2.0
PRODID:-//Ardantane - ECPv6.15.18//NONSGML v1.0//EN
CALSCALE:GREGORIAN
METHOD:PUBLISH
X-ORIGINAL-URL:https://ardantane.org
X-WR-CALDESC:Events for Ardantane
REFRESH-INTERVAL;VALUE=DURATION:PT1H
X-Robots-Tag:noindex
X-PUBLISHED-TTL:PT1H
BEGIN:VTIMEZONE
TZID:America/Denver
BEGIN:DAYLIGHT
TZOFFSETFROM:-0700
TZOFFSETTO:-0600
TZNAME:MDT
DTSTART:20240310T090000
END:DAYLIGHT
BEGIN:STANDARD
TZOFFSETFROM:-0600
TZOFFSETTO:-0700
TZNAME:MST
DTSTART:20241103T080000
END:STANDARD
BEGIN:DAYLIGHT
TZOFFSETFROM:-0700
TZOFFSETTO:-0600
TZNAME:MDT
DTSTART:20250309T090000
END:DAYLIGHT
BEGIN:STANDARD
TZOFFSETFROM:-0600
TZOFFSETTO:-0700
TZNAME:MST
DTSTART:20251102T080000
END:STANDARD
BEGIN:DAYLIGHT
TZOFFSETFROM:-0700
TZOFFSETTO:-0600
TZNAME:MDT
DTSTART:20260308T090000
END:DAYLIGHT
BEGIN:STANDARD
TZOFFSETFROM:-0600
TZOFFSETTO:-0700
TZNAME:MST
DTSTART:20261101T080000
END:STANDARD
END:VTIMEZONE
BEGIN:VEVENT
DTSTART;TZID=America/Denver:20250919T190000
DTEND;TZID=America/Denver:20250919T210000
DTSTAMP:20260424T095628
CREATED:20250821T033114Z
LAST-MODIFIED:20250821T033114Z
UID:4585-1758308400-1758315600@ardantane.org
SUMMARY:Cernunnos
DESCRIPTION:Join us for an exploration of Cernunnos\, who has been with us since the stone age. Hunter and hunted\, lord of the wild hunt\, God of the wild places\, divine sacrifice\, and psychopomp\, Cernunnos teaches us that we are part of the natural world. \n\nLora Jackson Legare has been a practicing Wiccan for 35 years. She is a professional archaeologist\, professor of anthropology\, artist and writer. She has led numerous public rituals in southern New Mexico and conducted workshops and classes on developing connections with Celtic Goddesses and Gods\, stone magick\, and magickal correspondences\, and led many guided meditations. \nThis class is free to supporting members of Ardantane.  Others must register below. Be sure to add the number of tickets you want before clicking the Blue GET TICKETS button. The fee is $10. \n\n\nRegistration closes at 5PM Mountain Time on Thursday\, September 18th.
URL:https://ardantane.org/event/cernunnos-2/
LOCATION:Online\, NM\, 87025\, United States
ATTACH;FMTTYPE=image/jpeg:https://ardantane.org/wp-content/uploads/2025/08/Cernnunos.jpg
END:VEVENT
END:VCALENDAR