BEGIN:VCALENDAR
VERSION:2.0
PRODID:-//Ardantane - ECPv6.15.18//NONSGML v1.0//EN
CALSCALE:GREGORIAN
METHOD:PUBLISH
X-ORIGINAL-URL:https://ardantane.org
X-WR-CALDESC:Events for Ardantane
REFRESH-INTERVAL;VALUE=DURATION:PT1H
X-Robots-Tag:noindex
X-PUBLISHED-TTL:PT1H
BEGIN:VTIMEZONE
TZID:America/Denver
BEGIN:DAYLIGHT
TZOFFSETFROM:-0700
TZOFFSETTO:-0600
TZNAME:MDT
DTSTART:20230312T090000
END:DAYLIGHT
BEGIN:STANDARD
TZOFFSETFROM:-0600
TZOFFSETTO:-0700
TZNAME:MST
DTSTART:20231105T080000
END:STANDARD
BEGIN:DAYLIGHT
TZOFFSETFROM:-0700
TZOFFSETTO:-0600
TZNAME:MDT
DTSTART:20240310T090000
END:DAYLIGHT
BEGIN:STANDARD
TZOFFSETFROM:-0600
TZOFFSETTO:-0700
TZNAME:MST
DTSTART:20241103T080000
END:STANDARD
BEGIN:DAYLIGHT
TZOFFSETFROM:-0700
TZOFFSETTO:-0600
TZNAME:MDT
DTSTART:20250309T090000
END:DAYLIGHT
BEGIN:STANDARD
TZOFFSETFROM:-0600
TZOFFSETTO:-0700
TZNAME:MST
DTSTART:20251102T080000
END:STANDARD
END:VTIMEZONE
BEGIN:VEVENT
DTSTART;TZID=America/Denver:20240912T170000
DTEND;TZID=America/Denver:20240915T170000
DTSTAMP:20260425T070911
CREATED:20240612T011023Z
LAST-MODIFIED:20240612T011023Z
UID:3580-1726160400-1726419600@ardantane.org
SUMMARY:Ardantane at Mystic Mabon Southwest
DESCRIPTION:Join Ardantane leadership and faculty at the Mystic Mabon Southwest Festival. Ardantane will be hosting a Happy Cauldron campsite\, where like-minded folks can gather\, socialize and get to know some pagan friends. We will also be doing a live auction to raise funds for the Common Room at the Ardantane campus. \nLearn more about Mystic Mabon Southwest: \n \nWelcome
URL:https://ardantane.org/event/ardantane-at-mystic-mabon-southwest/
LOCATION:NM
ATTACH;FMTTYPE=image/jpeg:https://ardantane.org/wp-content/uploads/2024/06/cropped-mabon_dance-e1705174145820.jpg
END:VEVENT
BEGIN:VEVENT
DTSTART;TZID=America/Denver:20240913T190000
DTEND;TZID=America/Denver:20240913T210000
DTSTAMP:20260425T070911
CREATED:20240719T200132Z
LAST-MODIFIED:20240719T200248Z
UID:3686-1726254000-1726261200@ardantane.org
SUMMARY:Mabon Ritual Online
DESCRIPTION:Celebrate the autumnal equinox with our online Mabon ritual\, a virtual gathering where we honor the balance between light and dark. Join us as we create sacred space from the comfort of your home\, guided by the gentle transition of the seasons. Through guided meditation\, reflection\, and rituals of gratitude\, we embrace the harvest and prepare for introspection. Together\, we weave intentions for harmony and renewal into the tapestry of the turning year. Embrace the spirit of Mabon with us\, and let the energy of the equinox inspire your journey ahead. \nLora Jackson Legare has been a practicing Wiccan for 35 years. She is a professional archaeologist\, professor of anthropology\, artist and writer. She has led numerous public rituals in southern New Mexico and conducted workshops and classes on developing connections with Celtic Goddesses and Gods\, stone magick\, and magickal correspondences\, and led many guided meditations. \n\nThis class is free to supporting members of Ardantane.  Others must register below. Be sure to add the number of tickets you want before clicking the Blue GET TICKETS button. The fee is $10. \n\n\nRegistration closes at 5PM Mountain Time on Thursday\, September 12th.
URL:https://ardantane.org/event/mabon-ritual-online/
LOCATION:Online\, NM\, 87025\, United States
CATEGORIES:Rituals
ATTACH;FMTTYPE=image/webp:https://ardantane.org/wp-content/uploads/2024/07/mabon_altar.jpg.webp
END:VEVENT
BEGIN:VEVENT
DTSTART;TZID=America/Denver:20240921T180000
DTEND;TZID=America/Denver:20240921T210000
DTSTAMP:20260425T070911
CREATED:20240612T004821Z
LAST-MODIFIED:20240703T231522Z
UID:3568-1726941600-1726952400@ardantane.org
SUMMARY:Mabon Ritual
DESCRIPTION:Saturday\, September 21st\, 6:00 pm\, at the Ardantane Campus. Free. \nThere will will songs\, stories\, fellowship and feasting. Bring a potluck dish or beverage. No charge\, though freewill donations are welcome. \nContact info@ardantane.org for directions or more information. You may RSVP below if you like. \nNOTE THAT THIS IS AN IN-PERSON RITUAL.
URL:https://ardantane.org/event/mabon-ritual/
LOCATION:Ardantane Campus\, Jemez Pueblo\, NM\, 87025\, United States
CATEGORIES:Rituals
ATTACH;FMTTYPE=image/webp:https://ardantane.org/wp-content/uploads/2024/06/mabon-1.jpg.webp
END:VEVENT
END:VCALENDAR