BEGIN:VCALENDAR
VERSION:2.0
PRODID:-//Ardantane - ECPv6.15.18//NONSGML v1.0//EN
CALSCALE:GREGORIAN
METHOD:PUBLISH
X-WR-CALNAME:Ardantane
X-ORIGINAL-URL:https://ardantane.org
X-WR-CALDESC:Events for Ardantane
REFRESH-INTERVAL;VALUE=DURATION:PT1H
X-Robots-Tag:noindex
X-PUBLISHED-TTL:PT1H
BEGIN:VTIMEZONE
TZID:America/Denver
BEGIN:DAYLIGHT
TZOFFSETFROM:-0700
TZOFFSETTO:-0600
TZNAME:MDT
DTSTART:20230312T090000
END:DAYLIGHT
BEGIN:STANDARD
TZOFFSETFROM:-0600
TZOFFSETTO:-0700
TZNAME:MST
DTSTART:20231105T080000
END:STANDARD
BEGIN:DAYLIGHT
TZOFFSETFROM:-0700
TZOFFSETTO:-0600
TZNAME:MDT
DTSTART:20240310T090000
END:DAYLIGHT
BEGIN:STANDARD
TZOFFSETFROM:-0600
TZOFFSETTO:-0700
TZNAME:MST
DTSTART:20241103T080000
END:STANDARD
BEGIN:DAYLIGHT
TZOFFSETFROM:-0700
TZOFFSETTO:-0600
TZNAME:MDT
DTSTART:20250309T090000
END:DAYLIGHT
BEGIN:STANDARD
TZOFFSETFROM:-0600
TZOFFSETTO:-0700
TZNAME:MST
DTSTART:20251102T080000
END:STANDARD
END:VTIMEZONE
BEGIN:VEVENT
DTSTART;TZID=America/Denver:20240912T170000
DTEND;TZID=America/Denver:20240915T170000
DTSTAMP:20260425T084902
CREATED:20240612T011023Z
LAST-MODIFIED:20240612T011023Z
UID:3580-1726160400-1726419600@ardantane.org
SUMMARY:Ardantane at Mystic Mabon Southwest
DESCRIPTION:Join Ardantane leadership and faculty at the Mystic Mabon Southwest Festival. Ardantane will be hosting a Happy Cauldron campsite\, where like-minded folks can gather\, socialize and get to know some pagan friends. We will also be doing a live auction to raise funds for the Common Room at the Ardantane campus. \nLearn more about Mystic Mabon Southwest: \n \nWelcome
URL:https://ardantane.org/event/ardantane-at-mystic-mabon-southwest/
LOCATION:NM
ATTACH;FMTTYPE=image/jpeg:https://ardantane.org/wp-content/uploads/2024/06/cropped-mabon_dance-e1705174145820.jpg
END:VEVENT
END:VCALENDAR