BEGIN:VCALENDAR
VERSION:2.0
PRODID:-//Ardantane - ECPv6.15.18//NONSGML v1.0//EN
CALSCALE:GREGORIAN
METHOD:PUBLISH
X-WR-CALNAME:Ardantane
X-ORIGINAL-URL:https://ardantane.org
X-WR-CALDESC:Events for Ardantane
REFRESH-INTERVAL;VALUE=DURATION:PT1H
X-Robots-Tag:noindex
X-PUBLISHED-TTL:PT1H
BEGIN:VTIMEZONE
TZID:America/Denver
BEGIN:DAYLIGHT
TZOFFSETFROM:-0700
TZOFFSETTO:-0600
TZNAME:MDT
DTSTART:20250309T090000
END:DAYLIGHT
BEGIN:STANDARD
TZOFFSETFROM:-0600
TZOFFSETTO:-0700
TZNAME:MST
DTSTART:20251102T080000
END:STANDARD
BEGIN:DAYLIGHT
TZOFFSETFROM:-0700
TZOFFSETTO:-0600
TZNAME:MDT
DTSTART:20260308T090000
END:DAYLIGHT
BEGIN:STANDARD
TZOFFSETFROM:-0600
TZOFFSETTO:-0700
TZNAME:MST
DTSTART:20261101T080000
END:STANDARD
BEGIN:DAYLIGHT
TZOFFSETFROM:-0700
TZOFFSETTO:-0600
TZNAME:MDT
DTSTART:20270314T090000
END:DAYLIGHT
BEGIN:STANDARD
TZOFFSETFROM:-0600
TZOFFSETTO:-0700
TZNAME:MST
DTSTART:20271107T080000
END:STANDARD
END:VTIMEZONE
BEGIN:VEVENT
DTSTART;TZID=America/Denver:20260926T180000
DTEND;TZID=America/Denver:20260926T210000
DTSTAMP:20260423T175652
CREATED:20251207T021807Z
LAST-MODIFIED:20251207T021807Z
UID:4779-1790445600-1790456400@ardantane.org
SUMMARY:Mabon Sabbat Ritual at Ardantane
DESCRIPTION:Join us in celebrating Mabon\, the Autumn Equinox—a moment of balance\, reflection\, and gratitude. Together we will honor the second harvest\, give thanks for the abundance in our lives\, and acknowledge the equal dance of light and dark as we move toward the quieter months. Through grounding\, shared intention\, and symbolic acts of release and gratitude\, we gather to embrace harmony and community. All are welcome to participate in this peaceful celebration of the season’s turning. \nThere will will songs\, stories\, fellowship and feasting. Bring a potluck dish or beverage. No charge\, though freewill donations are welcome. \nContact info@ardantane.org for directions or more information. You may RSVP below if you like. \nNOTE THAT THIS IS AN IN-PERSON RITUAL. You may also want to check out the online ritual scheduled for September18th. Check our website for details.
URL:https://ardantane.org/event/mabon-sabbat-ritual-at-ardantane-2026/
LOCATION:Ardantane Campus\, Jemez Pueblo\, NM\, 87025\, United States
CATEGORIES:Rituals
ATTACH;FMTTYPE=image/png:https://ardantane.org/wp-content/uploads/2023/01/Mabon-Harvest.png
END:VEVENT
END:VCALENDAR