BEGIN:VCALENDAR
VERSION:2.0
PRODID:-//Ardantane - ECPv6.15.18//NONSGML v1.0//EN
CALSCALE:GREGORIAN
METHOD:PUBLISH
X-ORIGINAL-URL:https://ardantane.org
X-WR-CALDESC:Events for Ardantane
REFRESH-INTERVAL;VALUE=DURATION:PT1H
X-Robots-Tag:noindex
X-PUBLISHED-TTL:PT1H
BEGIN:VTIMEZONE
TZID:America/Denver
BEGIN:DAYLIGHT
TZOFFSETFROM:-0700
TZOFFSETTO:-0600
TZNAME:MDT
DTSTART:20230312T090000
END:DAYLIGHT
BEGIN:STANDARD
TZOFFSETFROM:-0600
TZOFFSETTO:-0700
TZNAME:MST
DTSTART:20231105T080000
END:STANDARD
BEGIN:DAYLIGHT
TZOFFSETFROM:-0700
TZOFFSETTO:-0600
TZNAME:MDT
DTSTART:20240310T090000
END:DAYLIGHT
BEGIN:STANDARD
TZOFFSETFROM:-0600
TZOFFSETTO:-0700
TZNAME:MST
DTSTART:20241103T080000
END:STANDARD
BEGIN:DAYLIGHT
TZOFFSETFROM:-0700
TZOFFSETTO:-0600
TZNAME:MDT
DTSTART:20250309T090000
END:DAYLIGHT
BEGIN:STANDARD
TZOFFSETFROM:-0600
TZOFFSETTO:-0700
TZNAME:MST
DTSTART:20251102T080000
END:STANDARD
END:VTIMEZONE
BEGIN:VEVENT
DTSTART;TZID=America/Denver:20240726T190000
DTEND;TZID=America/Denver:20240726T210000
DTSTAMP:20260425T180359
CREATED:20240602T200706Z
LAST-MODIFIED:20240723T200835Z
UID:3541-1722020400-1722027600@ardantane.org
SUMMARY:Celebrating the Lughnassad Harvest
DESCRIPTION:Lughnassad celebrates the Celtic god Lugh of the Long Arm\, God of Many Skills; it is also the first of three harvest festivals\, the grain harvest. Let’s explore the lore and legends\, and the many fun and delicious ways we can celebrate the day! From the traditional Tailltean Games to new ways to enjoy bread and baked goodies\, let’s share! \nAmber K is a third degree priestess of the Wiccan faith. She was initiated at the Temple of the Pagan Way in Chicago and served on the Council of Elders there. Her books on magick and the Craft have been widely circulated in the United States and Europe\, and for 35 years she has traveled across the U.S. teaching the Craft. She has worked with Circle and the Re-Formed Congregation of the Goddess\, and served as National First Officer of the Covenant of the Goddess for three terms. She is a founder of Our Lady of the Woods and the Ladywood Tradition of Wicca\, and currently is Executive Director of Ardantane\, a Wiccan/Pagan seminary is northern New Mexico.\n \n\nThis class is free to supporting members of Ardantane.  Others must register below. Be sure to add the number of tickets you want before clicking the Blue GET TICKETS button. The fee is $10. \n\n\nRegistration closes at 5PM Mountain Time on Thursday\, July 25th.
URL:https://ardantane.org/event/celebrating-the-lughnassad-harvest/
LOCATION:Online\, NM\, 87025\, United States
CATEGORIES:Class Info
ATTACH;FMTTYPE=image/jpeg:https://ardantane.org/wp-content/uploads/2024/06/Paganista_Lugh_Celtic.jpg
END:VEVENT
END:VCALENDAR