BEGIN:VCALENDAR
VERSION:2.0
PRODID:-//Ardantane - ECPv6.15.18//NONSGML v1.0//EN
CALSCALE:GREGORIAN
METHOD:PUBLISH
X-ORIGINAL-URL:https://ardantane.org
X-WR-CALDESC:Events for Ardantane
REFRESH-INTERVAL;VALUE=DURATION:PT1H
X-Robots-Tag:noindex
X-PUBLISHED-TTL:PT1H
BEGIN:VTIMEZONE
TZID:America/Denver
BEGIN:DAYLIGHT
TZOFFSETFROM:-0700
TZOFFSETTO:-0600
TZNAME:MDT
DTSTART:20250309T090000
END:DAYLIGHT
BEGIN:STANDARD
TZOFFSETFROM:-0600
TZOFFSETTO:-0700
TZNAME:MST
DTSTART:20251102T080000
END:STANDARD
BEGIN:DAYLIGHT
TZOFFSETFROM:-0700
TZOFFSETTO:-0600
TZNAME:MDT
DTSTART:20260308T090000
END:DAYLIGHT
BEGIN:STANDARD
TZOFFSETFROM:-0600
TZOFFSETTO:-0700
TZNAME:MST
DTSTART:20261101T080000
END:STANDARD
BEGIN:DAYLIGHT
TZOFFSETFROM:-0700
TZOFFSETTO:-0600
TZNAME:MDT
DTSTART:20270314T090000
END:DAYLIGHT
BEGIN:STANDARD
TZOFFSETFROM:-0600
TZOFFSETTO:-0700
TZNAME:MST
DTSTART:20271107T080000
END:STANDARD
END:VTIMEZONE
BEGIN:VEVENT
DTSTART;TZID=America/Denver:20260801T180000
DTEND;TZID=America/Denver:20260801T210000
DTSTAMP:20260423T162054
CREATED:20251207T021347Z
LAST-MODIFIED:20251207T021347Z
UID:4776-1785607200-1785618000@ardantane.org
SUMMARY:Lughnassadh Sabbat Ritual at Ardantane
DESCRIPTION:Join us as we celebrate Lughnasadh\, the first harvest and a time of gratitude\, skill\, and abundance. Together we will honor the turning of the Wheel toward autumn\, give thanks for the fruits of our labor\, and reflect on the achievements we sowed earlier in the year. Through symbolic offerings\, community connection\, and shared intention\, we welcome the spirit of generosity and growth. All are welcome to gather\, celebrate\, and share in the blessings of the season’s first harvest. \nThere will will songs\, stories\, fellowship and feasting. Bring a potluck dish or beverage. No charge\, though freewill donations are welcome. \nContact info@ardantane.org for directions or more information. You may RSVP below if you like. \nNOTE THAT THIS IS AN IN-PERSON RITUAL.You may also want to check out our online ritual held on July 31st. Check our website for details.
URL:https://ardantane.org/event/lughnassadh-sabbat-ritual-at-ardantane-2026/
LOCATION:Ardantane Campus\, Jemez Pueblo\, NM\, 87025\, United States
CATEGORIES:Rituals
ATTACH;FMTTYPE=image/jpeg:https://ardantane.org/wp-content/uploads/2022/06/lammas-altar.jpg
END:VEVENT
END:VCALENDAR