BEGIN:VCALENDAR
VERSION:2.0
PRODID:-//Ardantane - ECPv6.15.18//NONSGML v1.0//EN
CALSCALE:GREGORIAN
METHOD:PUBLISH
X-WR-CALNAME:Ardantane
X-ORIGINAL-URL:https://ardantane.org
X-WR-CALDESC:Events for Ardantane
REFRESH-INTERVAL;VALUE=DURATION:PT1H
X-Robots-Tag:noindex
X-PUBLISHED-TTL:PT1H
BEGIN:VTIMEZONE
TZID:America/Denver
BEGIN:DAYLIGHT
TZOFFSETFROM:-0700
TZOFFSETTO:-0600
TZNAME:MDT
DTSTART:20230312T090000
END:DAYLIGHT
BEGIN:STANDARD
TZOFFSETFROM:-0600
TZOFFSETTO:-0700
TZNAME:MST
DTSTART:20231105T080000
END:STANDARD
BEGIN:DAYLIGHT
TZOFFSETFROM:-0700
TZOFFSETTO:-0600
TZNAME:MDT
DTSTART:20240310T090000
END:DAYLIGHT
BEGIN:STANDARD
TZOFFSETFROM:-0600
TZOFFSETTO:-0700
TZNAME:MST
DTSTART:20241103T080000
END:STANDARD
BEGIN:DAYLIGHT
TZOFFSETFROM:-0700
TZOFFSETTO:-0600
TZNAME:MDT
DTSTART:20250309T090000
END:DAYLIGHT
BEGIN:STANDARD
TZOFFSETFROM:-0600
TZOFFSETTO:-0700
TZNAME:MST
DTSTART:20251102T080000
END:STANDARD
END:VTIMEZONE
BEGIN:VEVENT
DTSTART;TZID=America/Denver:20240614T190000
DTEND;TZID=America/Denver:20240614T210000
DTSTAMP:20260425T084832
CREATED:20240329T021316Z
LAST-MODIFIED:20240517T131921Z
UID:3391-1718391600-1718398800@ardantane.org
SUMMARY:Magical Alphabets
DESCRIPTION:Join us for an introduction to Magickal Alphabets\, including Egyptian heiroglyphics\, gematria\, runes\, ogham\, Theban\, Enochian\, Celestial\, Passing the River\, and many more\, including ones like the Voynich Manuscript that has never been deciphered. We will  discuss why we use them and how we use them. \nLora Jackson Legare has been a practicing Wiccan for 35 years. She is a professional archaeologist\, professor of anthropology\, artist and writer. She has led numerous public rituals in southern New Mexico and conducted workshops and classes on developing connections with Celtic Goddesses and Gods\, stone magick\, and magickal correspondences\, and led many guided meditations. \nThis class is free to supporting members of Ardantane. Others must register below. Be sure to add the number of tickets you want before clicking the Blue GET TICKETS button. The fee is $10. \nRegistration closes at 5PM Mountain Time on Thursday\, June 14th.
URL:https://ardantane.org/event/magical-alphabets/
LOCATION:Online\, NM\, 87025\, United States
CATEGORIES:Class Info
ATTACH;FMTTYPE=image/jpeg:https://ardantane.org/wp-content/uploads/2024/03/theban.jpeg
END:VEVENT
END:VCALENDAR