BEGIN:VCALENDAR
VERSION:2.0
PRODID:-//Ardantane - ECPv6.15.18//NONSGML v1.0//EN
CALSCALE:GREGORIAN
METHOD:PUBLISH
X-WR-CALNAME:Ardantane
X-ORIGINAL-URL:https://ardantane.org
X-WR-CALDESC:Events for Ardantane
REFRESH-INTERVAL;VALUE=DURATION:PT1H
X-Robots-Tag:noindex
X-PUBLISHED-TTL:PT1H
BEGIN:VTIMEZONE
TZID:America/Denver
BEGIN:DAYLIGHT
TZOFFSETFROM:-0700
TZOFFSETTO:-0600
TZNAME:MDT
DTSTART:20230312T090000
END:DAYLIGHT
BEGIN:STANDARD
TZOFFSETFROM:-0600
TZOFFSETTO:-0700
TZNAME:MST
DTSTART:20231105T080000
END:STANDARD
BEGIN:DAYLIGHT
TZOFFSETFROM:-0700
TZOFFSETTO:-0600
TZNAME:MDT
DTSTART:20240310T090000
END:DAYLIGHT
BEGIN:STANDARD
TZOFFSETFROM:-0600
TZOFFSETTO:-0700
TZNAME:MST
DTSTART:20241103T080000
END:STANDARD
BEGIN:DAYLIGHT
TZOFFSETFROM:-0700
TZOFFSETTO:-0600
TZNAME:MDT
DTSTART:20250309T090000
END:DAYLIGHT
BEGIN:STANDARD
TZOFFSETFROM:-0600
TZOFFSETTO:-0700
TZNAME:MST
DTSTART:20251102T080000
END:STANDARD
END:VTIMEZONE
BEGIN:VEVENT
DTSTART;TZID=America/Denver:20241122T190000
DTEND;TZID=America/Denver:20241122T210000
DTSTAMP:20260425T092120
CREATED:20241030T160326Z
LAST-MODIFIED:20241120T174303Z
UID:3907-1732302000-1732309200@ardantane.org
SUMMARY:The Witch Trials in Abiquiu\, NM
DESCRIPTION:A little-studied witchcraft trial took place at Abiquiu\, New Mexico\, between 1756 and 1766.  The witchcraft outbreak took place less than a century after the Pueblo Revolt and symbolized a resistance by the Genízaros (hispanicized Indians) of Abiquiu to forced Christianization. The response of the Church and the Spanish government stand in sharp contrast to the pattern set in Salem 150 years earlier.  We will examine the unique history of this tiny New Mexico village\, the nature of the accusations made and the response of the Spanish colonial governor and the Church. \nRowan has been active in the pagan community of northern New Mexico for over 35 years.  She is a third degree initiate of the Ladywoods tradition and currently serves as the Dean of the School of Magick and Witchcraft at Ardantane.  In her mundane life\, she holds a BS in education from UT El Paso\, and an MBA from UNM.  She has taught at festivals in New Mexico and Colorado and nationally\, but enjoys teaching at Ardantane the most. \nThis online class is free to supporting members of Ardantane. Others must register below. Be sure to add the number of tickets you want before clicking the Blue GET TICKETS button. The fee is $10. \nRegistration closes at 5PM Mountain Time on Thursday\, November 21. \n 
URL:https://ardantane.org/event/the-witch-trials-in-abiquiu-nm/
LOCATION:Online\, NM\, 87025\, United States
CATEGORIES:Class Info
ATTACH;FMTTYPE=image/jpeg:https://ardantane.org/wp-content/uploads/2024/10/Witches-of-Abiquiu.jpeg
END:VEVENT
END:VCALENDAR