BEGIN:VCALENDAR
VERSION:2.0
PRODID:-//Ardantane - ECPv6.15.18//NONSGML v1.0//EN
CALSCALE:GREGORIAN
METHOD:PUBLISH
X-WR-CALNAME:Ardantane
X-ORIGINAL-URL:https://ardantane.org
X-WR-CALDESC:Events for Ardantane
REFRESH-INTERVAL;VALUE=DURATION:PT1H
X-Robots-Tag:noindex
X-PUBLISHED-TTL:PT1H
BEGIN:VTIMEZONE
TZID:America/Denver
BEGIN:DAYLIGHT
TZOFFSETFROM:-0700
TZOFFSETTO:-0600
TZNAME:MDT
DTSTART:20250309T090000
END:DAYLIGHT
BEGIN:STANDARD
TZOFFSETFROM:-0600
TZOFFSETTO:-0700
TZNAME:MST
DTSTART:20251102T080000
END:STANDARD
BEGIN:DAYLIGHT
TZOFFSETFROM:-0700
TZOFFSETTO:-0600
TZNAME:MDT
DTSTART:20260308T090000
END:DAYLIGHT
BEGIN:STANDARD
TZOFFSETFROM:-0600
TZOFFSETTO:-0700
TZNAME:MST
DTSTART:20261101T080000
END:STANDARD
BEGIN:DAYLIGHT
TZOFFSETFROM:-0700
TZOFFSETTO:-0600
TZNAME:MDT
DTSTART:20270314T090000
END:DAYLIGHT
BEGIN:STANDARD
TZOFFSETFROM:-0600
TZOFFSETTO:-0700
TZNAME:MST
DTSTART:20271107T080000
END:STANDARD
END:VTIMEZONE
BEGIN:VEVENT
DTSTART;TZID=America/Denver:20260206T190000
DTEND;TZID=America/Denver:20260206T210000
DTSTAMP:20260423T201125
CREATED:20251228T174847Z
LAST-MODIFIED:20260203T171206Z
UID:4875-1770404400-1770411600@ardantane.org
SUMMARY:Truth to Power and True Power
DESCRIPTION:What is True Power? What are the differences between\, and qualities of\, “Power Over” and “Power Within”? How does this inform our path\, especially in our current world? Join us for an exploration in how to learn to consciously speak your truth and maintain your sense of personal empowerment in chaotic situations and environments. We will explore the Victim-Warrior-Mastery model\, as well as other helpful tools to find and maintain our freedom. \nMonica Devi Bhakti has been working and teaching in the field of healing and energy work for over 25 years. She has worked with numerous sensitive individuals through Clairvoyant and Intuitive Readings\, Counseling\, Alchemical Hypnotherapy\, Massage\, Polarity\, and numerous other healing modalities. \n\n\nThis class is free to supporting members of Ardantane. Others must register. The fee is $10. While we get our new registration system set up\, please email info@ardantane.org before 5PM Mountain Time on Thursday\, February 5th.
URL:https://ardantane.org/event/truth-to-power-and-true-power/
LOCATION:Online\, NM\, 87025\, United States
ATTACH;FMTTYPE=image/jpeg:https://ardantane.org/wp-content/uploads/2025/12/True-Power.jpeg
END:VEVENT
BEGIN:VEVENT
DTSTART;TZID=America/Denver:20260213T190000
DTEND;TZID=America/Denver:20260213T210000
DTSTAMP:20260423T201125
CREATED:20260201T161116Z
LAST-MODIFIED:20260201T161116Z
UID:4907-1771009200-1771016400@ardantane.org
SUMMARY:Lucid Dreaming as a Spiritual Practice
DESCRIPTION:Lucid Dreams are powerful and mysterious states of consciousness! In a Lucid Dream one wakes up in their dream and can make conscious choices in the dream. Lucid Dreaming is the application of mindfulness practice to dreaming practice. Shamanic\, hermetic\, pagan\, and Buddhist traditions all have utilized the magic of the lucid dream state for spiritual practice and spiritual development. Come learn the techniques on how to use your dreams consciously and work through karmic and spiritual blocks \nSteve Wilson\, MA\, LP\, LPC is a Psychologist in Durango\, CO specializing in Trauma\, Anxiety\, and Psychedelic Integration. With a BA in Religion and Philosophy\, Steve has practiced Zen\, Tantric Buddhism\, and Shamanism for decades. Since Crop Circles started increasing in complexity in the 90’s\, he has studied their sacred geometry\, and their influence in the evolution of humanity and planetary healing. \nThis class is free to supporting members of Ardantane. Others must register. The fee is $10. While we get our new registration system set up\, please email info@ardantane.org. \nRegistration closes at 5PM Mountain Time on Thursday\, February 12th.
URL:https://ardantane.org/event/lucid-dreaming-as-a-spiritual-practice/
LOCATION:Online\, NM\, 87025\, United States
ATTACH;FMTTYPE=image/jpeg:https://ardantane.org/wp-content/uploads/2026/02/dreams_900x600.jpg
END:VEVENT
BEGIN:VEVENT
DTSTART;TZID=America/Denver:20260220T190000
DTEND;TZID=America/Denver:20260220T210000
DTSTAMP:20260423T201125
CREATED:20251228T180532Z
LAST-MODIFIED:20260215T153456Z
UID:4880-1771614000-1771621200@ardantane.org
SUMMARY:How to Heal with the Gods and Goddesses
DESCRIPTION:We all cope with “the ills that flesh is heir to\,” attending to our illnesses\, injuries\, and “owies” with modern medicine and ancient healing techniques. Yet how well do we enlist allies from the world of Spirit for this? Based on their book Healing with the Gods and Goddesses: Divine Allies on Your Journey to Health\, Amber and Azrael will explore which deities are known as healers\, and how we can work with them to get better. And better\, and better. \nAmber K and Azrael Arynn K are priestesses of the Wiccan faith\, as well as authors and teachers. They have more than 75 years of combined experience as clergy. They are fascinated by the technology of the sacred—how magick works—and how to share this in ritual design and through their teaching.  \nAmber was initiated at the Temple of the Pagan Way in Chicago in 1978\, and is co-founder of the Ladywood Tradition of Wicca. She served three terms as National First Officer of Covenant of the Goddess\, the largest federation of Witches’ covens and solitary Witches.  \nAzrael Arynn K is a celebrated author\, teacher\, ritualist\, and leader within the Pagan community. She has degrees in criminal justice\, law\, and architecture. They were handfasted in 1994\, were married a few years later\, and live and work together at Ardantane Pagan school and retreat center in northern New Mexico. Currently Amber is Executive Director and Dean of the School of Pagan Leadership\, while Azrael is Dean of the School of Sacred Living and Director of Facilities. See ardantane.org.  \nAmber K is the author of True Magick: A Beginner’s Guide\, and Stone Witchery and Divination\, among others. Azrael designs\, co-authors\, and edits books with Amber\, including the award-winning books RitualCraft: Creating Rites for Transformation and Celebration; and Pinups Portraits and Posters: The Life and Art of Bill Randall (Amber’s dad). See their other titles at magickwithamberk.com. \n\n\n\nThis class is free to supporting members of Ardantane.  Others must register below by clicking the Blue GET TICKETS button. The fee is $10. \n\n\n\nRegistration closes at 5PM Mountain Time on Thursday\, February 19th. \nGet Tickets
URL:https://ardantane.org/event/how-to-heal-with-the-gods-and-goddesses/
LOCATION:Online\, NM\, 87025\, United States
ATTACH;FMTTYPE=image/jpeg:https://ardantane.org/wp-content/uploads/2025/12/healing-with-gods-and-goddesses.jpg
END:VEVENT
BEGIN:VEVENT
DTSTART;TZID=America/Denver:20260227T190000
DTEND;TZID=America/Denver:20260227T210000
DTSTAMP:20260423T201125
CREATED:20260201T160412Z
LAST-MODIFIED:20260215T160951Z
UID:4904-1772218800-1772226000@ardantane.org
SUMMARY:Creating Ritual
DESCRIPTION:Does the thought of planning a ritual (for yourself\, a small group\, or 500 people) fill you with joy\, annoyance\, tingles in your brain and fingers…or dread? Azrael and Kalisha have designed hundreds\, if not thousands\, of rituals between them\, and hope to help you become an enthusiastic and dynamic creator of superior rituals—big and not-so-big. Creating a really dynamic ritual that has people wishing it could continue forever is a skill\, and\, like any skill\, can be learned. But the real joy is found in practice and watching it unfold perfectly (never happens) when performed! \nAzrael Arynn K has been a Wiccan priestess for over thirty years\, and (with Amber K) is an award-winning author\, teacher\, and leader within the Pagan community. She has degrees in criminal justice\, law\, and architecture. She is the Dean of the School of Sacred Living and Director of Facilities at Ardantane; see ardantane.org. Azrael designs\, co-authors\, and edits books with Amber\, including the award-winning books RitualCraft: Creating Rites for Transformation and Celebration; and Pinups Portraits and Posters: The Life and Art of Bill Randall(Amber’s dad). See their other titles at magickwithamberk.com. \nKalisha Kfp is My Craft name\, though many of you also know me as Karen P. I have been a practicing witch since 1972 and I enjoy a 3rd degree or High Priestess status in several traditions including Gardnerian. My interest include Egyptology\, Speleology\, Archaeology/Anthropology\, Ancient religions & cultures\, Healing\, Herbs both magical & homeopathic\, Incense – history & use\, Mythology as relates to theology and psychology\, different types of magick\, and various forms of divination. I am a ravenous bookworm! \nThis class is free to supporting members of Ardantane. Others must register. The fee is $10. While we get our new registration system set up\, please email info@ardantane.org. \nRegistration closes at 5PM Mountain Time on Thursday\, February 26. \nGet Tickets
URL:https://ardantane.org/event/creating-ritual/
LOCATION:Online\, NM\, 87025\, United States
ATTACH;FMTTYPE=image/jpeg:https://ardantane.org/wp-content/uploads/2026/02/Solstice-ritual-scaled.jpeg
END:VEVENT
END:VCALENDAR