BEGIN:VCALENDAR
VERSION:2.0
PRODID:-//Ardantane - ECPv6.15.18//NONSGML v1.0//EN
CALSCALE:GREGORIAN
METHOD:PUBLISH
X-WR-CALNAME:Ardantane
X-ORIGINAL-URL:https://ardantane.org
X-WR-CALDESC:Events for Ardantane
REFRESH-INTERVAL;VALUE=DURATION:PT1H
X-Robots-Tag:noindex
X-PUBLISHED-TTL:PT1H
BEGIN:VTIMEZONE
TZID:America/Denver
BEGIN:DAYLIGHT
TZOFFSETFROM:-0700
TZOFFSETTO:-0600
TZNAME:MDT
DTSTART:20240310T090000
END:DAYLIGHT
BEGIN:STANDARD
TZOFFSETFROM:-0600
TZOFFSETTO:-0700
TZNAME:MST
DTSTART:20241103T080000
END:STANDARD
BEGIN:DAYLIGHT
TZOFFSETFROM:-0700
TZOFFSETTO:-0600
TZNAME:MDT
DTSTART:20250309T090000
END:DAYLIGHT
BEGIN:STANDARD
TZOFFSETFROM:-0600
TZOFFSETTO:-0700
TZNAME:MST
DTSTART:20251102T080000
END:STANDARD
BEGIN:DAYLIGHT
TZOFFSETFROM:-0700
TZOFFSETTO:-0600
TZNAME:MDT
DTSTART:20260308T090000
END:DAYLIGHT
BEGIN:STANDARD
TZOFFSETFROM:-0600
TZOFFSETTO:-0700
TZNAME:MST
DTSTART:20261101T080000
END:STANDARD
END:VTIMEZONE
BEGIN:VEVENT
DTSTART;TZID=America/Denver:20250603T190000
DTEND;TZID=America/Denver:20250624T210000
DTSTAMP:20260424T114003
CREATED:20250117T211904Z
LAST-MODIFIED:20250311T015034Z
UID:4179-1748977200-1750798800@ardantane.org
SUMMARY:Magickal Symbols
DESCRIPTION:Ever since the first paint was applied to a Paleolithic cavern wall\, and the first petroglyph was scratched on to an ancient boulder\, humans have sought to harness the power of magickal symbols. This four-week online class will explore the history and modern usage of symbols\, with emphasis on Western cultures\, but including examples from cultures worldwide as well. Included are Elemental signs\, Futhark and bindrunes\, talismanic sigils\, alchemical signs\, designing your own sigils for magick and spiritual work\, and much\, much more. \nHeld 4 Tuesdays in June: June 3\, 10\, 17\, 24 from 7-9 p.m. MT \nAmber K is a third degree priestess of the Wiccan faith. She was initiated at the Temple of the Pagan Way in Chicago and served on the Council of Elders there. Her books on magick and the Craft have been widely circulated in the United States and Europe\, and for 35 years she has traveled across the U.S. teaching the Craft. She has worked with Circle and the Re-Formed Congregation of the Goddess\, and served as National First Officer of the Covenant of the Goddess for three terms. She is a founder of Our Lady of the Woods and the Ladywood Tradition of Wicca\, and currently is Executive Director of Ardantane\, a Wiccan/Pagan seminary is northern New Mexico. \nRegister using the “Get Tickets” button below. Cost for the 4-week series is $80 for Ardantane members and $100 for non-members.
URL:https://ardantane.org/event/magickal-symbols/
LOCATION:Online\, NM\, 87025\, United States
ATTACH;FMTTYPE=image/jpeg:https://ardantane.org/wp-content/uploads/2025/01/magical-symbols-meanings.jpeg
END:VEVENT
END:VCALENDAR