BEGIN:VCALENDAR
VERSION:2.0
PRODID:-//Ardantane - ECPv6.15.18//NONSGML v1.0//EN
CALSCALE:GREGORIAN
METHOD:PUBLISH
X-ORIGINAL-URL:https://ardantane.org
X-WR-CALDESC:Events for Ardantane
REFRESH-INTERVAL;VALUE=DURATION:PT1H
X-Robots-Tag:noindex
X-PUBLISHED-TTL:PT1H
BEGIN:VTIMEZONE
TZID:America/Denver
BEGIN:DAYLIGHT
TZOFFSETFROM:-0700
TZOFFSETTO:-0600
TZNAME:MDT
DTSTART:20240310T090000
END:DAYLIGHT
BEGIN:STANDARD
TZOFFSETFROM:-0600
TZOFFSETTO:-0700
TZNAME:MST
DTSTART:20241103T080000
END:STANDARD
BEGIN:DAYLIGHT
TZOFFSETFROM:-0700
TZOFFSETTO:-0600
TZNAME:MDT
DTSTART:20250309T090000
END:DAYLIGHT
BEGIN:STANDARD
TZOFFSETFROM:-0600
TZOFFSETTO:-0700
TZNAME:MST
DTSTART:20251102T080000
END:STANDARD
BEGIN:DAYLIGHT
TZOFFSETFROM:-0700
TZOFFSETTO:-0600
TZNAME:MDT
DTSTART:20260308T090000
END:DAYLIGHT
BEGIN:STANDARD
TZOFFSETFROM:-0600
TZOFFSETTO:-0700
TZNAME:MST
DTSTART:20261101T080000
END:STANDARD
END:VTIMEZONE
BEGIN:VEVENT
DTSTART;TZID=America/Denver:20250627T190000
DTEND;TZID=America/Denver:20250627T210000
DTSTAMP:20260424T150945
CREATED:20250406T210908Z
LAST-MODIFIED:20250626T022031Z
UID:4344-1751050800-1751058000@ardantane.org
SUMMARY:Enter at Your Own Risk: The Lore and Magick of Doors and Entryways
DESCRIPTION:Long ago our ancestors lived in trees or caves\, and had no doors. Now they’re everywhere\, and surrounded by legends\, magick\, custom and tradition. They can lock things out\, let people in\, or offer tantalizing glimpses of unfamiliar cultures and worlds. Let’s look at a selection of doors around the world and glean their messages; and let’s explore their stories and traditions\, from Jewish mezuzahs to the Gaelic first-foot to Greek squill onions and Danish dish-throwing. Amber K created this a-door-able program to share with you. Walk right in. \nAmber K is a third degree priestess of the Wiccan faith. She was initiated at the Temple of the Pagan Way in Chicago and served on the Council of Elders there. Her books on magick and the Craft have been widely circulated in the United States and Europe\, and for 35 years she has traveled across the U.S. teaching the Craft. She has worked with Circle and the Re-Formed Congregation of the Goddess\, and served as National First Officer of the Covenant of the Goddess for three terms. She is a founder of Our Lady of the Woods and the Ladywood Tradition of Wicca\, and currently is Executive Director of Ardantane. \nThis class is free to supporting members of Ardantane. Others must register  below. Be sure to add the number of tickets you want before clicking the Blue GET TICKETS button. The fee is $10. \nRegistration closes at 5PM Mountain Time on Thursday\, June 26th.
URL:https://ardantane.org/event/the-lore-and-magick-of-doors-and-entryways/
LOCATION:Online\, NM\, 87025\, United States
ATTACH;FMTTYPE=image/jpeg:https://ardantane.org/wp-content/uploads/2025/04/mystical-tree-door-stockcake.jpg
END:VEVENT
END:VCALENDAR