BEGIN:VCALENDAR
VERSION:2.0
PRODID:-//Ardantane - ECPv6.15.18//NONSGML v1.0//EN
CALSCALE:GREGORIAN
METHOD:PUBLISH
X-WR-CALNAME:Ardantane
X-ORIGINAL-URL:https://ardantane.org
X-WR-CALDESC:Events for Ardantane
REFRESH-INTERVAL;VALUE=DURATION:PT1H
X-Robots-Tag:noindex
X-PUBLISHED-TTL:PT1H
BEGIN:VTIMEZONE
TZID:America/Denver
BEGIN:DAYLIGHT
TZOFFSETFROM:-0700
TZOFFSETTO:-0600
TZNAME:MDT
DTSTART:20240310T090000
END:DAYLIGHT
BEGIN:STANDARD
TZOFFSETFROM:-0600
TZOFFSETTO:-0700
TZNAME:MST
DTSTART:20241103T080000
END:STANDARD
BEGIN:DAYLIGHT
TZOFFSETFROM:-0700
TZOFFSETTO:-0600
TZNAME:MDT
DTSTART:20250309T090000
END:DAYLIGHT
BEGIN:STANDARD
TZOFFSETFROM:-0600
TZOFFSETTO:-0700
TZNAME:MST
DTSTART:20251102T080000
END:STANDARD
BEGIN:DAYLIGHT
TZOFFSETFROM:-0700
TZOFFSETTO:-0600
TZNAME:MDT
DTSTART:20260308T090000
END:DAYLIGHT
BEGIN:STANDARD
TZOFFSETFROM:-0600
TZOFFSETTO:-0700
TZNAME:MST
DTSTART:20261101T080000
END:STANDARD
END:VTIMEZONE
BEGIN:VEVENT
DTSTART;TZID=America/Denver:20250711T190000
DTEND;TZID=America/Denver:20250711T210000
DTSTAMP:20260424T095502
CREATED:20250406T211527Z
LAST-MODIFIED:20250627T162341Z
UID:4348-1752260400-1752267600@ardantane.org
SUMMARY:Refreshing Your Spiritual Life
DESCRIPTION:What do we do when our religious practices start to feel… meh? How can we keep our feet on our path for the long term\, through authentic personal practice and deepening connection with deity? \nHow do we keep our practice vital and relevant for years and decades? And how do we help those newer to Paganism do the same? We certainly aren’t going to push some “One True Faith\,” but there are some things we can each adapt\, to revitalize our unique and various spiritual paths. What are the tools we use to keep our practice fresh? And how do we get past crises of faith? \nAmber K is a third degree priestess of the Wiccan faith. She was initiated at the Temple of the Pagan Way in Chicago and served on the Council of Elders there. Her books on magick and the Craft have been widely circulated in the United States and Europe\, and for 35 years she has traveled across the U.S. teaching the Craft. She has worked with Circle and the Re-Formed Congregation of the Goddess\, and served as National First Officer of the Covenant of the Goddess for three terms. She is a founder of Our Lady of the Woods and the Ladywood Tradition of Wicca\, and currently is Executive Director of Ardantane. \nLora Jackson Legare has been a practicing Wiccan for 35 years. She is a professional archaeologist\, professor of anthropology\, artist and writer. She has led numerous public rituals in southern New Mexico and conducted workshops and classes on developing connections with Celtic Goddesses and Gods\, stone magick\, and magickal correspondences\, and led many guided meditations. \nThis class is free to supporting members of Ardantane. Others must register  below. Be sure to add the number of tickets you want before clicking the Blue GET TICKETS button. The fee is $10. \nRegistration closes at 5PM Mountain Time on Thursday\, July 10th.
URL:https://ardantane.org/event/eveningwithtwowitches/
LOCATION:Online\, NM\, 87025\, United States
ATTACH;FMTTYPE=image/jpeg:https://ardantane.org/wp-content/uploads/2025/04/pngtree-happy-pagan-couple-at-altar-sitting-person-ritual-photo-image_19945526.jpg
END:VEVENT
END:VCALENDAR