BEGIN:VCALENDAR
VERSION:2.0
PRODID:-//Ardantane - ECPv6.15.18//NONSGML v1.0//EN
CALSCALE:GREGORIAN
METHOD:PUBLISH
X-WR-CALNAME:Ardantane
X-ORIGINAL-URL:https://ardantane.org
X-WR-CALDESC:Events for Ardantane
REFRESH-INTERVAL;VALUE=DURATION:PT1H
X-Robots-Tag:noindex
X-PUBLISHED-TTL:PT1H
BEGIN:VTIMEZONE
TZID:America/Denver
BEGIN:DAYLIGHT
TZOFFSETFROM:-0700
TZOFFSETTO:-0600
TZNAME:MDT
DTSTART:20240310T090000
END:DAYLIGHT
BEGIN:STANDARD
TZOFFSETFROM:-0600
TZOFFSETTO:-0700
TZNAME:MST
DTSTART:20241103T080000
END:STANDARD
BEGIN:DAYLIGHT
TZOFFSETFROM:-0700
TZOFFSETTO:-0600
TZNAME:MDT
DTSTART:20250309T090000
END:DAYLIGHT
BEGIN:STANDARD
TZOFFSETFROM:-0600
TZOFFSETTO:-0700
TZNAME:MST
DTSTART:20251102T080000
END:STANDARD
BEGIN:DAYLIGHT
TZOFFSETFROM:-0700
TZOFFSETTO:-0600
TZNAME:MDT
DTSTART:20260308T090000
END:DAYLIGHT
BEGIN:STANDARD
TZOFFSETFROM:-0600
TZOFFSETTO:-0700
TZNAME:MST
DTSTART:20261101T080000
END:STANDARD
END:VTIMEZONE
BEGIN:VEVENT
DTSTART;TZID=America/Denver:20250905T190000
DTEND;TZID=America/Denver:20250905T210000
DTSTAMP:20260424T062043
CREATED:20250629T232310Z
LAST-MODIFIED:20250629T232310Z
UID:4511-1757098800-1757106000@ardantane.org
SUMMARY:Nuit\, Goddess of the Night Sky and less familiar gods and goddesses of Egypt
DESCRIPTION:Many of us know something about Isis\, Osiris\, Ra\, and other major deities of Egypt; and many of us resonate with one or more of them. But how much do you know about Heqet\, Hekat\, Ptah\, Geb\, Anat\, Khnum\, Khonsu\, Atum\, Seshat\, Tawaret\, Sobek\, Selket\, Nepthys\, Set\, and Bes? Okay\, what about Anhur\, Bennu\, Maahes\, Neper\, Imentet\, Nepit\, Renenutet\, and Tefnut? You might like to learn about Besna\, the goddess of home security; or Hedjhotep\, god of fabrics and cothing; or Heset\, goddess of food and drink. There are hundred of deities from this long-lived culture; join Azrael Arynn K\, Dean of the School of Sacred Living\, as we discover Nuit and a selection of other important goddesses and gods. \nAzrael Arynn K is a third-degree Wiccan Priestess and High Priest of the Coven of Our Lady of the Woods\, and has also held offices in the Covenant of the Goddess. She is both Facilities Director and Dean of the School of Sacred Living at Ardantane Pagan Learning Center. She co-authors books on the Craft with Amber K\, and travels and teaches widely throughout the United States. \n\nThis class is free to supporting members of Ardantane.  Others must register below. Be sure to add the number of tickets you want before clicking the Blue GET TICKETS button. The fee is $10. \n\n\nRegistration closes at 5PM Mountain Time on Thursday\, September 4th.
URL:https://ardantane.org/event/nuit-goddess-of-the-night-sky-and-less-familiar-gods-and-goddesses-of-egypt/
LOCATION:Online\, NM\, 87025\, United States
ATTACH;FMTTYPE=image/jpeg:https://ardantane.org/wp-content/uploads/2025/06/Nuit.jpeg
END:VEVENT
END:VCALENDAR