BEGIN:VCALENDAR
VERSION:2.0
PRODID:-//Ardantane - ECPv6.15.18//NONSGML v1.0//EN
CALSCALE:GREGORIAN
METHOD:PUBLISH
X-WR-CALNAME:Ardantane
X-ORIGINAL-URL:https://ardantane.org
X-WR-CALDESC:Events for Ardantane
REFRESH-INTERVAL;VALUE=DURATION:PT1H
X-Robots-Tag:noindex
X-PUBLISHED-TTL:PT1H
BEGIN:VTIMEZONE
TZID:America/Denver
BEGIN:DAYLIGHT
TZOFFSETFROM:-0700
TZOFFSETTO:-0600
TZNAME:MDT
DTSTART:20240310T090000
END:DAYLIGHT
BEGIN:STANDARD
TZOFFSETFROM:-0600
TZOFFSETTO:-0700
TZNAME:MST
DTSTART:20241103T080000
END:STANDARD
BEGIN:DAYLIGHT
TZOFFSETFROM:-0700
TZOFFSETTO:-0600
TZNAME:MDT
DTSTART:20250309T090000
END:DAYLIGHT
BEGIN:STANDARD
TZOFFSETFROM:-0600
TZOFFSETTO:-0700
TZNAME:MST
DTSTART:20251102T080000
END:STANDARD
BEGIN:DAYLIGHT
TZOFFSETFROM:-0700
TZOFFSETTO:-0600
TZNAME:MDT
DTSTART:20260308T090000
END:DAYLIGHT
BEGIN:STANDARD
TZOFFSETFROM:-0600
TZOFFSETTO:-0700
TZNAME:MST
DTSTART:20261101T080000
END:STANDARD
END:VTIMEZONE
BEGIN:VEVENT
DTSTART;TZID=America/Denver:20251010T190000
DTEND;TZID=America/Denver:20251010T210000
DTSTAMP:20260424T044712
CREATED:20250821T035912Z
LAST-MODIFIED:20251005T171415Z
UID:4597-1760122800-1760130000@ardantane.org
SUMMARY:Aleister Crowley
DESCRIPTION:Join Moonbeam Mage for information on this fascinating and controversial figure in Craft history \nMoonbeam Mage caught a glimpse of the path that might be some twenty-five years ago. Fifteen years ago she heard herself asserting that she was on that path\, and has solidly placed one foot after the other upon it since. In 2010 she found Ardantane and began her pursuit of all that formal training in the Craft could offer. In 2014\, she received the Ardantane Level Three\, Master of Magick and Witchcraft Certificate. She is also a third degree initiate of the Ladywood tradition of the Craft. \n\nThis class is free to supporting members of Ardantane.  Others must register below. Be sure to add the number of tickets you want before clicking the Blue GET TICKETS button. The fee is $10. \n\n\nRegistration closes at 5PM Mountain Time on Thursday\, October 9th.
URL:https://ardantane.org/event/aleister-crowley/
LOCATION:Online\, NM\, 87025\, United States
ATTACH;FMTTYPE=image/jpeg:https://ardantane.org/wp-content/uploads/2025/08/Aleister-Crowley.jpeg
END:VEVENT
END:VCALENDAR