BEGIN:VCALENDAR
VERSION:2.0
PRODID:-//Ardantane - ECPv6.15.18//NONSGML v1.0//EN
CALSCALE:GREGORIAN
METHOD:PUBLISH
X-ORIGINAL-URL:https://ardantane.org
X-WR-CALDESC:Events for Ardantane
REFRESH-INTERVAL;VALUE=DURATION:PT1H
X-Robots-Tag:noindex
X-PUBLISHED-TTL:PT1H
BEGIN:VTIMEZONE
TZID:America/Denver
BEGIN:DAYLIGHT
TZOFFSETFROM:-0700
TZOFFSETTO:-0600
TZNAME:MDT
DTSTART:20240310T090000
END:DAYLIGHT
BEGIN:STANDARD
TZOFFSETFROM:-0600
TZOFFSETTO:-0700
TZNAME:MST
DTSTART:20241103T080000
END:STANDARD
BEGIN:DAYLIGHT
TZOFFSETFROM:-0700
TZOFFSETTO:-0600
TZNAME:MDT
DTSTART:20250309T090000
END:DAYLIGHT
BEGIN:STANDARD
TZOFFSETFROM:-0600
TZOFFSETTO:-0700
TZNAME:MST
DTSTART:20251102T080000
END:STANDARD
BEGIN:DAYLIGHT
TZOFFSETFROM:-0700
TZOFFSETTO:-0600
TZNAME:MDT
DTSTART:20260308T090000
END:DAYLIGHT
BEGIN:STANDARD
TZOFFSETFROM:-0600
TZOFFSETTO:-0700
TZNAME:MST
DTSTART:20261101T080000
END:STANDARD
END:VTIMEZONE
BEGIN:VEVENT
DTSTART;TZID=America/Denver:20251205T190000
DTEND;TZID=America/Denver:20251205T210000
DTSTAMP:20260424T014600
CREATED:20251105T020831Z
LAST-MODIFIED:20251127T204808Z
UID:4723-1764961200-1764968400@ardantane.org
SUMMARY:After Ragnarok: Visions for the Future
DESCRIPTION:The bards speak of a gargantuan battle where the world burns the drowns… and the gods we know will perish.  \nBut the tales add this: afterward\, the world will rise again\, cleansed and fertile\, to be renewed.  \nWhat is the world you dream of? Because when this society collapses under the weight of its greed and cruelty\, there will be a chance to create something different… if we have clear visions and the will to make them real.  \nJoin the visioning\, and the first tiny steps toward planning what is to come after Ragnarok. Your hopes count. Give them voice.  \nLed by Amber K and Azrael Arynn K: two experienced Wiccan priestesses and teachers who have weathered 146 years between them\, in their current sojourns on this planet. They have authored True Magick\, RitualCraft\, How to Become a Witch\, and other Pagan books. \n\nThis class is free to supporting members of Ardantane.  Others must register below. Be sure to add the number of tickets you want before clicking the Blue GET TICKETS button. The fee is $10. \n\n\nRegistration closes at 5PM Mountain Time on Thursday\, December 4th.
URL:https://ardantane.org/event/after-ragnarok-visions-for-the-future/
LOCATION:Online\, NM\, 87025\, United States
ATTACH;FMTTYPE=image/jpeg:https://ardantane.org/wp-content/uploads/2025/11/ragnarokcopy.jpg.jpeg
END:VEVENT
END:VCALENDAR