BEGIN:VCALENDAR
VERSION:2.0
PRODID:-//Ardantane - ECPv6.15.18//NONSGML v1.0//EN
CALSCALE:GREGORIAN
METHOD:PUBLISH
X-WR-CALNAME:Ardantane
X-ORIGINAL-URL:https://ardantane.org
X-WR-CALDESC:Events for Ardantane
REFRESH-INTERVAL;VALUE=DURATION:PT1H
X-Robots-Tag:noindex
X-PUBLISHED-TTL:PT1H
BEGIN:VTIMEZONE
TZID:America/Denver
BEGIN:DAYLIGHT
TZOFFSETFROM:-0700
TZOFFSETTO:-0600
TZNAME:MDT
DTSTART:20250309T090000
END:DAYLIGHT
BEGIN:STANDARD
TZOFFSETFROM:-0600
TZOFFSETTO:-0700
TZNAME:MST
DTSTART:20251102T080000
END:STANDARD
BEGIN:DAYLIGHT
TZOFFSETFROM:-0700
TZOFFSETTO:-0600
TZNAME:MDT
DTSTART:20260308T090000
END:DAYLIGHT
BEGIN:STANDARD
TZOFFSETFROM:-0600
TZOFFSETTO:-0700
TZNAME:MST
DTSTART:20261101T080000
END:STANDARD
BEGIN:DAYLIGHT
TZOFFSETFROM:-0700
TZOFFSETTO:-0600
TZNAME:MDT
DTSTART:20270314T090000
END:DAYLIGHT
BEGIN:STANDARD
TZOFFSETFROM:-0600
TZOFFSETTO:-0700
TZNAME:MST
DTSTART:20271107T080000
END:STANDARD
END:VTIMEZONE
BEGIN:VEVENT
DTSTART;TZID=America/Denver:20260109T190000
DTEND;TZID=America/Denver:20260109T210000
DTSTAMP:20260423T233808
CREATED:20251224T001144Z
LAST-MODIFIED:20260107T002056Z
UID:4841-1767985200-1767992400@ardantane.org
SUMMARY:Mary Magdalene and the Seven Powers
DESCRIPTION:In this transformative seminar\, we will explore the profound role of Mary Magdalene as a symbol of the Divine Feminine. Through history\, myth\, and modern interpretations\, we will uncover the hidden wisdom and sacred power that Magdalene embodies—connecting her to the archetypal feminine energy that has been suppressed and forgotten in many spiritual traditions. We will explore what her Gospel terms as the “Seven Powers”\, and their role in spiritual development. Join us for a deep dive into her teachings\, her mystery\, and her role as a spiritual leader\, healer\, and guide. Together\, we will engage in rituals\, meditations\, and discussions to reclaim and honor the divine feminine within ourselves and our world. \nMonica Devi Bhakti has been working and teaching in the field of healing and energy work for over 25 years. She has worked with numerous sensitive individuals through Clairvoyant and Intuitive Readings\, Counseling\, Alchemical Hypnotherapy\, Massage\, Polarity\, and numerous other healing modalities. \n\nAll Friday Fireside Seminars are free in January 2026! Email registration@ardantane.org for the link.
URL:https://ardantane.org/event/mary-magdelene-and-seven-powers/
LOCATION:Online\, NM\, 87025\, United States
CATEGORIES:Class Info
ATTACH;FMTTYPE=image/jpeg:https://ardantane.org/wp-content/uploads/2024/11/Mary-Magdalene.jpeg
END:VEVENT
END:VCALENDAR