BEGIN:VCALENDAR
VERSION:2.0
PRODID:-//Ardantane - ECPv6.15.18//NONSGML v1.0//EN
CALSCALE:GREGORIAN
METHOD:PUBLISH
X-ORIGINAL-URL:https://ardantane.org
X-WR-CALDESC:Events for Ardantane
REFRESH-INTERVAL;VALUE=DURATION:PT1H
X-Robots-Tag:noindex
X-PUBLISHED-TTL:PT1H
BEGIN:VTIMEZONE
TZID:America/Denver
BEGIN:DAYLIGHT
TZOFFSETFROM:-0700
TZOFFSETTO:-0600
TZNAME:MDT
DTSTART:20250309T090000
END:DAYLIGHT
BEGIN:STANDARD
TZOFFSETFROM:-0600
TZOFFSETTO:-0700
TZNAME:MST
DTSTART:20251102T080000
END:STANDARD
BEGIN:DAYLIGHT
TZOFFSETFROM:-0700
TZOFFSETTO:-0600
TZNAME:MDT
DTSTART:20260308T090000
END:DAYLIGHT
BEGIN:STANDARD
TZOFFSETFROM:-0600
TZOFFSETTO:-0700
TZNAME:MST
DTSTART:20261101T080000
END:STANDARD
BEGIN:DAYLIGHT
TZOFFSETFROM:-0700
TZOFFSETTO:-0600
TZNAME:MDT
DTSTART:20270314T090000
END:DAYLIGHT
BEGIN:STANDARD
TZOFFSETFROM:-0600
TZOFFSETTO:-0700
TZNAME:MST
DTSTART:20271107T080000
END:STANDARD
END:VTIMEZONE
BEGIN:VEVENT
DTSTART;TZID=America/Denver:20260417T190000
DTEND;TZID=America/Denver:20260417T210000
DTSTAMP:20260423T182658
CREATED:20260215T144715Z
LAST-MODIFIED:20260215T175208Z
UID:4943-1776452400-1776459600@ardantane.org
SUMMARY:Artificial Intelligence and Paganism
DESCRIPTION:The talk will be basically two parts. First\, understanding what generative AI is and how it works. This can be a complicated process of using labeled data to train the generative AI bot.\n\nSecond\, what is the impact of generative AI on our society and Paganism\, in particular. There will be major impacts\, but these are not yet known.\n\nPagans range from Technopagans\, who love all new technologies\, to Pastoral Pagans\, who long to return to a simple less technical rural life style.\n\nMost of us are in between these two extremes. We drive cars and use the web\, but do not worship technology.\n\n\nMerlyn is retired\, widowed and living in Albuquerque. He is a third degree initiate in OLW and Ladywood Tradition. Meryl retired from LANL where he worked for 9 years and as a contractor for 12 years. He has a Ph.D Biology and enjoys e-biking\, reading ebooks and web surfing.\n\n\nThis class is free to supporting members of Ardantane.  Others must register below by clicking the Blue GET TICKETS button. The fee is $10. \n\nRegistration closes at 5PM Mountain Time on Thursday\, April 16th. \nGet Tickets
URL:https://ardantane.org/event/artificial-intelligence-and-paganism-2026/
LOCATION:Online\, NM\, 87025\, United States
CATEGORIES:Class Info
ATTACH;FMTTYPE=image/png:https://ardantane.org/wp-content/uploads/2024/02/Artificial-intelligence.png
END:VEVENT
END:VCALENDAR