BEGIN:VCALENDAR
VERSION:2.0
PRODID:-//Ardantane - ECPv6.15.18//NONSGML v1.0//EN
CALSCALE:GREGORIAN
METHOD:PUBLISH
X-ORIGINAL-URL:https://ardantane.org
X-WR-CALDESC:Events for Ardantane
REFRESH-INTERVAL;VALUE=DURATION:PT1H
X-Robots-Tag:noindex
X-PUBLISHED-TTL:PT1H
BEGIN:VTIMEZONE
TZID:America/Denver
BEGIN:DAYLIGHT
TZOFFSETFROM:-0700
TZOFFSETTO:-0600
TZNAME:MDT
DTSTART:20240310T090000
END:DAYLIGHT
BEGIN:STANDARD
TZOFFSETFROM:-0600
TZOFFSETTO:-0700
TZNAME:MST
DTSTART:20241103T080000
END:STANDARD
BEGIN:DAYLIGHT
TZOFFSETFROM:-0700
TZOFFSETTO:-0600
TZNAME:MDT
DTSTART:20250309T090000
END:DAYLIGHT
BEGIN:STANDARD
TZOFFSETFROM:-0600
TZOFFSETTO:-0700
TZNAME:MST
DTSTART:20251102T080000
END:STANDARD
BEGIN:DAYLIGHT
TZOFFSETFROM:-0700
TZOFFSETTO:-0600
TZNAME:MDT
DTSTART:20260308T090000
END:DAYLIGHT
BEGIN:STANDARD
TZOFFSETFROM:-0600
TZOFFSETTO:-0700
TZNAME:MST
DTSTART:20261101T080000
END:STANDARD
END:VTIMEZONE
BEGIN:VEVENT
DTSTART;TZID=America/Denver:20250613T190000
DTEND;TZID=America/Denver:20250613T210000
DTSTAMP:20260425T143928
CREATED:20250406T205353Z
LAST-MODIFIED:20250406T205353Z
UID:4336-1749841200-1749848400@ardantane.org
SUMMARY:Online Litha Ritual 2025
DESCRIPTION:As the wheel of the year turns and the sun reaches its peak\, we invite you to join us for a virtual gathering to celebrate Litha\, the summer solstice! While we may be physically apart\, our spirits unite in this digital sacred space to honor the abundance of the season and bask in the glow of the sun’s radiant energy. Gather with us as we weave together moments of reflection\, ritual\, and connection\, honoring the vibrant energy of summer and the blessings of the natural world. \nLora Jackson Legare has been a practicing Wiccan for 35 years. She is a professional archaeologist\, professor of anthropology\, artist and writer. She has led numerous public rituals in southern New Mexico and conducted workshops and classes on developing connections with Celtic Goddesses and Gods\, stone magick\, and magickal correspondences\, and led many guided meditations.\n \nThis class is free to supporting members of Ardantane. Others must register below. Be sure to add the number of tickets you want before clicking the Blue GET TICKETS button. The fee is $10. \nRegistration closes at 5PM Mountain Time on Thursday\, June 12th. \nNote that this is an ONLINE celebration. If you live near Northern New Mexico\, consider joining us on Saturday\, June 21st for an in-person Litha Sabbat at the Ardantane campus. More information can be found here https://ardantane.org/event/litha-sabbat-at-ardantane/. 
URL:https://ardantane.org/event/online-litha-ritual-2025/
LOCATION:Online\, NM\, 87025\, United States
CATEGORIES:Class Info
ATTACH;FMTTYPE=image/jpeg:https://ardantane.org/wp-content/uploads/2024/03/flower_crown.jpg
END:VEVENT
BEGIN:VEVENT
DTSTART;TZID=America/Denver:20250622T160000
DTEND;TZID=America/Denver:20250622T180000
DTSTAMP:20260425T143928
CREATED:20250117T195940Z
LAST-MODIFIED:20250117T195940Z
UID:4156-1750608000-1750615200@ardantane.org
SUMMARY:Ardantane Circle Meeting
DESCRIPTION:Our Board meetings are all held on Zoom. Please contact info@ardantane.org for an invitation via email. The members of the Ardantane Circle (the Board\, staff\, faculty\, students\, and anyone else interested in steering Ardantane’s ship) meet every two months to make decisions about the curriculum and the campus. Come join us to help plan Ardantane’s future!
URL:https://ardantane.org/event/ardantane-circle-june-25/
LOCATION:Online\, NM\, 87025\, United States
CATEGORIES:Meeting
ATTACH;FMTTYPE=image/jpeg:https://ardantane.org/wp-content/uploads/2022/06/Bredes-Circle.jpg
END:VEVENT
END:VCALENDAR