BEGIN:VCALENDAR
VERSION:2.0
PRODID:-//Ardantane - ECPv6.15.18//NONSGML v1.0//EN
CALSCALE:GREGORIAN
METHOD:PUBLISH
X-WR-CALNAME:Ardantane
X-ORIGINAL-URL:https://ardantane.org
X-WR-CALDESC:Events for Ardantane
REFRESH-INTERVAL;VALUE=DURATION:PT1H
X-Robots-Tag:noindex
X-PUBLISHED-TTL:PT1H
BEGIN:VTIMEZONE
TZID:America/Denver
BEGIN:DAYLIGHT
TZOFFSETFROM:-0700
TZOFFSETTO:-0600
TZNAME:MDT
DTSTART:20240310T090000
END:DAYLIGHT
BEGIN:STANDARD
TZOFFSETFROM:-0600
TZOFFSETTO:-0700
TZNAME:MST
DTSTART:20241103T080000
END:STANDARD
BEGIN:DAYLIGHT
TZOFFSETFROM:-0700
TZOFFSETTO:-0600
TZNAME:MDT
DTSTART:20250309T090000
END:DAYLIGHT
BEGIN:STANDARD
TZOFFSETFROM:-0600
TZOFFSETTO:-0700
TZNAME:MST
DTSTART:20251102T080000
END:STANDARD
BEGIN:DAYLIGHT
TZOFFSETFROM:-0700
TZOFFSETTO:-0600
TZNAME:MDT
DTSTART:20260308T090000
END:DAYLIGHT
BEGIN:STANDARD
TZOFFSETFROM:-0600
TZOFFSETTO:-0700
TZNAME:MST
DTSTART:20261101T080000
END:STANDARD
END:VTIMEZONE
BEGIN:VEVENT
DTSTART;TZID=America/Denver:20250314T190000
DTEND;TZID=America/Denver:20250314T210000
DTSTAMP:20260424T214505
CREATED:20241130T181206Z
LAST-MODIFIED:20250227T201217Z
UID:3997-1741978800-1741986000@ardantane.org
SUMMARY:Ostara Spring Equinox Online Ritual
DESCRIPTION:Join us for a virtual gathering to honor Ostara\, the Spring Equinox\, a time of balance\, renewal\, and the blossoming of new beginnings. This online ritual will focus on celebrating the vibrant energy of the season as we welcome the return of light and growth. Let’s celebrate the promise of Spring with joy\, hope\, and the magic of renewal! \nNote that this is an ONLINE ritual. We will also host an in-person Ostara celebration at the Ardantane campus. Check back for details on that celebration. \nMy Craft name is Kalisha Kfp\, though many of you also know me as Karen P. I have been a practicing witch since 1972 and I enjoy a 3rd degree or High Priestess status in several traditions including Gardnerian. My interest include Egyptology\, Speleology\, Archaeology/Anthropology\, Ancient religions & cultures\, Healing\, Herbs both magical & homeopathic\, Incense – history & use\, Mythology as relates to theology and psychology\, different types of magick\, and various forms of divination. I am a ravenous bookworm! \nThis online class is free to supporting members of Ardantane. Others must register below. Be sure to add the number of tickets you want before clicking the Blue GET TICKETS button. The fee is $10. \nRegistration closes at 5PM Mountain Time on Thursday\, March 13th.
URL:https://ardantane.org/event/ostara-spring-equinox-online-ritual/
LOCATION:Online\, NM\, 87025\, United States
CATEGORIES:Rituals
ATTACH;FMTTYPE=image/jpeg:https://ardantane.org/wp-content/uploads/2023/12/Ostara-with-rabbits.jpeg
END:VEVENT
END:VCALENDAR