BEGIN:VCALENDAR
VERSION:2.0
PRODID:-//Ardantane - ECPv6.15.18//NONSGML v1.0//EN
CALSCALE:GREGORIAN
METHOD:PUBLISH
X-WR-CALNAME:Ardantane
X-ORIGINAL-URL:https://ardantane.org
X-WR-CALDESC:Events for Ardantane
REFRESH-INTERVAL;VALUE=DURATION:PT1H
X-Robots-Tag:noindex
X-PUBLISHED-TTL:PT1H
BEGIN:VTIMEZONE
TZID:America/Denver
BEGIN:DAYLIGHT
TZOFFSETFROM:-0700
TZOFFSETTO:-0600
TZNAME:MDT
DTSTART:20240310T090000
END:DAYLIGHT
BEGIN:STANDARD
TZOFFSETFROM:-0600
TZOFFSETTO:-0700
TZNAME:MST
DTSTART:20241103T080000
END:STANDARD
BEGIN:DAYLIGHT
TZOFFSETFROM:-0700
TZOFFSETTO:-0600
TZNAME:MDT
DTSTART:20250309T090000
END:DAYLIGHT
BEGIN:STANDARD
TZOFFSETFROM:-0600
TZOFFSETTO:-0700
TZNAME:MST
DTSTART:20251102T080000
END:STANDARD
BEGIN:DAYLIGHT
TZOFFSETFROM:-0700
TZOFFSETTO:-0600
TZNAME:MDT
DTSTART:20260308T090000
END:DAYLIGHT
BEGIN:STANDARD
TZOFFSETFROM:-0600
TZOFFSETTO:-0700
TZNAME:MST
DTSTART:20261101T080000
END:STANDARD
END:VTIMEZONE
BEGIN:VEVENT
DTSTART;TZID=America/Denver:20250822T190000
DTEND;TZID=America/Denver:20250822T210000
DTSTAMP:20260424T162745
CREATED:20250627T150603Z
LAST-MODIFIED:20250806T010439Z
UID:4491-1755889200-1755896400@ardantane.org
SUMMARY:Queen Medb of Cruachan
DESCRIPTION:In this session\, we will explore the powerful and complex figure of Queen Medb of Cruachan\, a central character in Irish mythology and a potent symbol within modern pagan practice. We’ll delve into the Ulster Cycle\, particularly the Táin Bó Cúailnge\, to examine Medb’s role as a warrior queen\, her sovereignty over land and people\, and her embodiment of divine feminine power. The session will include a blend of mythological storytelling\, historical context\, and spiritual interpretation\, considering how Medb has been viewed as both a historical archetype and a living deity within Celtic and pagan traditions. \nMaeve has been active in the Denver area Druid community for many years. \n\nThis class is free to supporting members of Ardantane.  Others must register below. Be sure to add the number of tickets you want before clicking the Blue GET TICKETS button. The fee is $10. \n\n\nRegistration closes at 5PM Mountain Time on Thursday\, August 21st.
URL:https://ardantane.org/event/queen-medb-of-cruachan/
LOCATION:Online\, NM\, 87025\, United States
ATTACH;FMTTYPE=image/jpeg:https://ardantane.org/wp-content/uploads/2025/06/Queen-Maeve.jpeg
END:VEVENT
END:VCALENDAR