BEGIN:VCALENDAR
VERSION:2.0
PRODID:-//Ardantane - ECPv6.15.18//NONSGML v1.0//EN
CALSCALE:GREGORIAN
METHOD:PUBLISH
X-ORIGINAL-URL:https://ardantane.org
X-WR-CALDESC:Events for Ardantane
REFRESH-INTERVAL;VALUE=DURATION:PT1H
X-Robots-Tag:noindex
X-PUBLISHED-TTL:PT1H
BEGIN:VTIMEZONE
TZID:America/Denver
BEGIN:DAYLIGHT
TZOFFSETFROM:-0700
TZOFFSETTO:-0600
TZNAME:MDT
DTSTART:20240310T090000
END:DAYLIGHT
BEGIN:STANDARD
TZOFFSETFROM:-0600
TZOFFSETTO:-0700
TZNAME:MST
DTSTART:20241103T080000
END:STANDARD
BEGIN:DAYLIGHT
TZOFFSETFROM:-0700
TZOFFSETTO:-0600
TZNAME:MDT
DTSTART:20250309T090000
END:DAYLIGHT
BEGIN:STANDARD
TZOFFSETFROM:-0600
TZOFFSETTO:-0700
TZNAME:MST
DTSTART:20251102T080000
END:STANDARD
BEGIN:DAYLIGHT
TZOFFSETFROM:-0700
TZOFFSETTO:-0600
TZNAME:MDT
DTSTART:20260308T090000
END:DAYLIGHT
BEGIN:STANDARD
TZOFFSETFROM:-0600
TZOFFSETTO:-0700
TZNAME:MST
DTSTART:20261101T080000
END:STANDARD
END:VTIMEZONE
BEGIN:VEVENT
DTSTART;TZID=America/Denver:20250131T190000
DTEND;TZID=America/Denver:20250131T210000
DTSTAMP:20260425T111056
CREATED:20241130T172536Z
LAST-MODIFIED:20250128T213335Z
UID:3974-1738350000-1738357200@ardantane.org
SUMMARY:Imbolc
DESCRIPTION:Join Polaris for an online observance of Imbolc (or Candlemas)\, the celebration of the Celtic Goddess Brighid and the cross-quarter between the winter solstice and spring equinox. Help us celebrate the return of the growing season and the hope of surviving another winter. This is also a time when many pagans and Wiccans dedicate–to themselves\, to their spiritual path\, to each other. \nPolaris is a third degree Wiccan Priestess in the Ladywoods Tradition and a Magister in the Order of Paladins. She has been drawn to the natural cycles of the world from a young age and a practicing Pagan since the early 1990s. As a business consultant in the mundane world\, she integrates the natural cyclical energies into her work with clients\, helping them utilize the prevailing energies and work with those flows rather than struggling against them. \nNOTE THAT THIS IS AN ONLINE EVENT. If you would like an in-person event at the Ardantane campus\, we are holding an Imbolc celebration. Information for that event will be posted soon. \nThis class is free to supporting members of Ardantane. Others must register below. Be sure to add the number of tickets you want before clicking the Blue GET TICKETS button. The fee is $10. \nRegistration closes at 5PM Mountain Time on Thursday\, January 30th.
URL:https://ardantane.org/event/imbolc-2/
LOCATION:Online\, NM\, 87025\, United States
CATEGORIES:Rituals
ATTACH;FMTTYPE=image/jpeg:https://ardantane.org/wp-content/uploads/2023/12/Imbolc-altar.jpeg
END:VEVENT
END:VCALENDAR