BEGIN:VCALENDAR
VERSION:2.0
PRODID:-//Ardantane - ECPv6.15.18//NONSGML v1.0//EN
CALSCALE:GREGORIAN
METHOD:PUBLISH
X-ORIGINAL-URL:https://ardantane.org
X-WR-CALDESC:Events for Ardantane
REFRESH-INTERVAL;VALUE=DURATION:PT1H
X-Robots-Tag:noindex
X-PUBLISHED-TTL:PT1H
BEGIN:VTIMEZONE
TZID:America/Denver
BEGIN:DAYLIGHT
TZOFFSETFROM:-0700
TZOFFSETTO:-0600
TZNAME:MDT
DTSTART:20240310T090000
END:DAYLIGHT
BEGIN:STANDARD
TZOFFSETFROM:-0600
TZOFFSETTO:-0700
TZNAME:MST
DTSTART:20241103T080000
END:STANDARD
BEGIN:DAYLIGHT
TZOFFSETFROM:-0700
TZOFFSETTO:-0600
TZNAME:MDT
DTSTART:20250309T090000
END:DAYLIGHT
BEGIN:STANDARD
TZOFFSETFROM:-0600
TZOFFSETTO:-0700
TZNAME:MST
DTSTART:20251102T080000
END:STANDARD
BEGIN:DAYLIGHT
TZOFFSETFROM:-0700
TZOFFSETTO:-0600
TZNAME:MDT
DTSTART:20260308T090000
END:DAYLIGHT
BEGIN:STANDARD
TZOFFSETFROM:-0600
TZOFFSETTO:-0700
TZNAME:MST
DTSTART:20261101T080000
END:STANDARD
END:VTIMEZONE
BEGIN:VEVENT
DTSTART;TZID=America/Denver:20250808T190000
DTEND;TZID=America/Denver:20250808T210000
DTSTAMP:20260424T184718
CREATED:20250627T024544Z
LAST-MODIFIED:20250807T225825Z
UID:4478-1754679600-1754686800@ardantane.org
SUMMARY:Large Group Ritual
DESCRIPTION:Large Group Ritual: designing great ones and getting the most out of them as a participant. Azrael\,  Bridget and Faellina have designed dozens of large group rituals during their combined 100+ years as priestesses\, and most of them came off really well. Some were fantastic!! And a few flopped. It happens to the best of us. We will share lessons learned\, do’s and don’t’s\, what works and what is guaranteed to lose your audience. Like treating them like an audience. Let’s learn and share together! \nAzrael Arynn K is a third-degree priestess in the Ladywood Tradition. She is both Facilities Director and Dean of the School of Sacred Living at Ardantane Pagan Learning Center. She co-authors books on the Craft with Amber K\, and travels and teaches widely throughout the United States. \nBridget Brooke is a Priestess trained in English traditional Wicca. She is an active longtime member of the Albuquerque community and has taught Wicca for the last 20 years. She has been a coven leader\, teacher and Ardantane Board Member for many years\, teaching the basics of Wiccan practice and belief many times\, to many different audiences. \nFaellina is a third degree priestess in the Ladywood Tradition\, and has led lagre-group rituals for over 30 years.  The most recent was the Wild Hunt at Mystuc Mabon SW 2024\, and she will use that experience to illustrate the Large Group Ritual planning and performance process. \n\n  \nThis class is free to supporting members of Ardantane.  Others must register below. Be sure to add the number of tickets you want before clicking the Blue GET TICKETS button. The fee is $10. \n\n\nRegistration closes at 5PM Mountain Time on Thursday\, August 7th.
URL:https://ardantane.org/event/large-group-ritual/
LOCATION:Online\, NM\, 87025\, United States
ATTACH;FMTTYPE=image/jpeg:https://ardantane.org/wp-content/uploads/2025/06/Donna-at-festival.jpg
END:VEVENT
END:VCALENDAR