BEGIN:VCALENDAR
VERSION:2.0
PRODID:-//Ardantane - ECPv6.15.18//NONSGML v1.0//EN
CALSCALE:GREGORIAN
METHOD:PUBLISH
X-ORIGINAL-URL:https://ardantane.org
X-WR-CALDESC:Events for Ardantane
REFRESH-INTERVAL;VALUE=DURATION:PT1H
X-Robots-Tag:noindex
X-PUBLISHED-TTL:PT1H
BEGIN:VTIMEZONE
TZID:America/Denver
BEGIN:DAYLIGHT
TZOFFSETFROM:-0700
TZOFFSETTO:-0600
TZNAME:MDT
DTSTART:20240310T090000
END:DAYLIGHT
BEGIN:STANDARD
TZOFFSETFROM:-0600
TZOFFSETTO:-0700
TZNAME:MST
DTSTART:20241103T080000
END:STANDARD
BEGIN:DAYLIGHT
TZOFFSETFROM:-0700
TZOFFSETTO:-0600
TZNAME:MDT
DTSTART:20250309T090000
END:DAYLIGHT
BEGIN:STANDARD
TZOFFSETFROM:-0600
TZOFFSETTO:-0700
TZNAME:MST
DTSTART:20251102T080000
END:STANDARD
BEGIN:DAYLIGHT
TZOFFSETFROM:-0700
TZOFFSETTO:-0600
TZNAME:MDT
DTSTART:20260308T090000
END:DAYLIGHT
BEGIN:STANDARD
TZOFFSETFROM:-0600
TZOFFSETTO:-0700
TZNAME:MST
DTSTART:20261101T080000
END:STANDARD
END:VTIMEZONE
BEGIN:VEVENT
DTSTART;TZID=America/Denver:20250207T190000
DTEND;TZID=America/Denver:20250207T210000
DTSTAMP:20260425T133041
CREATED:20241130T173018Z
LAST-MODIFIED:20241229T152757Z
UID:3977-1738954800-1738962000@ardantane.org
SUMMARY:Sacred Circles
DESCRIPTION:The powerful energies of Stones Circles have drawn humans and sacred worshippers throughout time. Their healing and transformational energies are available to us all now on an even more expanded scale\, due to increased activities in Ley Lines and the Planetary Grid. Since their appearances increased in complexity in the 1990s\, Crop Circles have been imparting new and ancient Sacred Geometry and coded messages. Shrouded in mystery\, these “Sacred Circles” of both stone and grain often appear in similar areas. Have you ever wondered why? What they have to tell us can propel our evolution. \nMonica Devi Bhakti is an Empath\, Intuitive Energy Reader\, Soul Coach\, Psychic Therapist\, Somatic Healer and Transformational Retreat Leader. She has traveled to many of the great Stones Circles in England and Ireland and led others on retreats and in ceremonies to experience their incredible power. \nSteve Wilson\, MA\, LP\, LPC is a Psychologist in Durango\, CO specializing in Trauma\, Anxiety\, and Psychedelic Integration. With a BA in Religion and Philosophy\, Steve has practiced Zen\, Tantric Buddhism\, and Shamanism for decades. Since Crop Circles started increasing in complexity in the 90’s\, he has studied their sacred geometry\, and their influence in the evolution of humanity and planetary healing. \nThis class is free to supporting members of Ardantane. Others must register below. Be sure to add the number of tickets you want before clicking the Blue GET TICKETS button. The fee is $10. \nRegistration closes at 5PM Mountain Time on Thursday\, February 6th.
URL:https://ardantane.org/event/sacred-circles/
LOCATION:Online\, NM\, 87025\, United States
CATEGORIES:Class Info
ATTACH;FMTTYPE=image/jpeg:https://ardantane.org/wp-content/uploads/2024/07/Stone-circle-2.jpeg
END:VEVENT
END:VCALENDAR