BEGIN:VCALENDAR
VERSION:2.0
PRODID:-//Ardantane - ECPv6.15.18//NONSGML v1.0//EN
CALSCALE:GREGORIAN
METHOD:PUBLISH
X-ORIGINAL-URL:https://ardantane.org
X-WR-CALDESC:Events for Ardantane
REFRESH-INTERVAL;VALUE=DURATION:PT1H
X-Robots-Tag:noindex
X-PUBLISHED-TTL:PT1H
BEGIN:VTIMEZONE
TZID:America/Denver
BEGIN:DAYLIGHT
TZOFFSETFROM:-0700
TZOFFSETTO:-0600
TZNAME:MDT
DTSTART:20240310T090000
END:DAYLIGHT
BEGIN:STANDARD
TZOFFSETFROM:-0600
TZOFFSETTO:-0700
TZNAME:MST
DTSTART:20241103T080000
END:STANDARD
BEGIN:DAYLIGHT
TZOFFSETFROM:-0700
TZOFFSETTO:-0600
TZNAME:MDT
DTSTART:20250309T090000
END:DAYLIGHT
BEGIN:STANDARD
TZOFFSETFROM:-0600
TZOFFSETTO:-0700
TZNAME:MST
DTSTART:20251102T080000
END:STANDARD
BEGIN:DAYLIGHT
TZOFFSETFROM:-0700
TZOFFSETTO:-0600
TZNAME:MDT
DTSTART:20260308T090000
END:DAYLIGHT
BEGIN:STANDARD
TZOFFSETFROM:-0600
TZOFFSETTO:-0700
TZNAME:MST
DTSTART:20261101T080000
END:STANDARD
END:VTIMEZONE
BEGIN:VEVENT
DTSTART;TZID=America/Denver:20251003T190000
DTEND;TZID=America/Denver:20251003T210000
DTSTAMP:20260424T055144
CREATED:20250821T035212Z
LAST-MODIFIED:20250821T035212Z
UID:4593-1759518000-1759525200@ardantane.org
SUMMARY:Women in the Warrior Tradition
DESCRIPTION:What is a warrior? What female warrior archetypes and goddesses of battle do we know? Were women ever knights and warriors historically\, and what are their stories? How have women warriors-in-spirit\, who never touched a weapon\, changed the world with their courage and vision? How can women today cultivate the qualities and strengths that we associate with the warrior archetype? Join Amber K\, a Knight of the Order of Paladins\, for this discussion. \nAmber K is a third degree priestess of the Wiccan faith. She was initiated at the Temple of the Pagan Way in Chicago and served on the Council of Elders there. Her books on magick and the Craft have been widely circulated in the United States and Europe\, and for 35 years she has traveled across the U.S. teaching the Craft. She has worked with Circle and the Re-Formed Congregation of the Goddess\, and served as National First Officer of the Covenant of the Goddess for three terms. She is a founder of Our Lady of the Woods and the Ladywood Tradition of Wicca\, and currently is Executive Director of Ardantane\, a Wiccan/Pagan seminary is northern New Mexico. \n\nThis class is free to supporting members of Ardantane.  Others must register below. Be sure to add the number of tickets you want before clicking the Blue GET TICKETS button. The fee is $10. \n\n\nRegistration closes at 5PM Mountain Time on Thursday\, October 2nd.
URL:https://ardantane.org/event/women-in-the-warrior-tradition/
LOCATION:Online\, NM\, 87025\, United States
ATTACH;FMTTYPE=image/jpeg:https://ardantane.org/wp-content/uploads/2025/08/amazon-warrior-women-myth-history.jpg.jpeg
END:VEVENT
END:VCALENDAR