BEGIN:VCALENDAR
VERSION:2.0
PRODID:-//Ardantane - ECPv6.15.18//NONSGML v1.0//EN
CALSCALE:GREGORIAN
METHOD:PUBLISH
X-ORIGINAL-URL:https://ardantane.org
X-WR-CALDESC:Events for Ardantane
REFRESH-INTERVAL;VALUE=DURATION:PT1H
X-Robots-Tag:noindex
X-PUBLISHED-TTL:PT1H
BEGIN:VTIMEZONE
TZID:America/Denver
BEGIN:DAYLIGHT
TZOFFSETFROM:-0700
TZOFFSETTO:-0600
TZNAME:MDT
DTSTART:20240310T090000
END:DAYLIGHT
BEGIN:STANDARD
TZOFFSETFROM:-0600
TZOFFSETTO:-0700
TZNAME:MST
DTSTART:20241103T080000
END:STANDARD
BEGIN:DAYLIGHT
TZOFFSETFROM:-0700
TZOFFSETTO:-0600
TZNAME:MDT
DTSTART:20250309T090000
END:DAYLIGHT
BEGIN:STANDARD
TZOFFSETFROM:-0600
TZOFFSETTO:-0700
TZNAME:MST
DTSTART:20251102T080000
END:STANDARD
BEGIN:DAYLIGHT
TZOFFSETFROM:-0700
TZOFFSETTO:-0600
TZNAME:MDT
DTSTART:20260308T090000
END:DAYLIGHT
BEGIN:STANDARD
TZOFFSETFROM:-0600
TZOFFSETTO:-0700
TZNAME:MST
DTSTART:20261101T080000
END:STANDARD
END:VTIMEZONE
BEGIN:VEVENT
DTSTART;TZID=America/Denver:20251107T190000
DTEND;TZID=America/Denver:20251107T210000
DTSTAMP:20260424T212035
CREATED:20251017T220344Z
LAST-MODIFIED:20251017T220344Z
UID:4682-1762542000-1762549200@ardantane.org
SUMMARY:Hope in the Darkness
DESCRIPTION:Join Dr. Jude Harrison for a post election update on topics such as Transgender/Gender Expansive rights\, Reproductive Rights –  the bills passed federally limiting health care\, federal funding deficits affecting health care availability\, and the people and efforts being done to mitigate effects. \nJude Harrison MD – pronouns he/him – enjoys being part of\, and getting along with\, an extended family spanning across each of the differences typically listed in dominant and minority identities. His training sources include Essential Partners\, who foster dialogs across differences\, ongoing studies of cultural oppression\, and reviewing programs collecting outcomes data on structural systems change to improve outcomes for marginalized people. He’s passionate about breaking down barriers to help create communities that celebrate each individual and work together to meet each person’s needs. \n\nThis class is free to supporting members of Ardantane.  Others must register below. Be sure to add the number of tickets you want before clicking the Blue GET TICKETS button. The fee is $10. \n\n\nRegistration closes at 5PM Mountain Time on Thursday\, November 6th.
URL:https://ardantane.org/event/hope-in-the-darkness/
LOCATION:Online\, NM\, 87025\, United States
ATTACH;FMTTYPE=image/jpeg:https://ardantane.org/wp-content/uploads/2025/10/hope-light-in-darkness.jpg.jpeg
END:VEVENT
BEGIN:VEVENT
DTSTART;TZID=America/Denver:20251108T090000
DTEND;TZID=America/Denver:20251108T150000
DTSTAMP:20260424T212035
CREATED:20241202T014704Z
LAST-MODIFIED:20241202T014704Z
UID:4040-1762592400-1762614000@ardantane.org
SUMMARY:Volunteer Work Day November 2025
DESCRIPTION:Contribute your energy\, time\, and talents to the upkeep of our beautiful campus near Jemez Springs\, New Mexico. We work from 8:00 or 9:00 AM\, depending on the season… starting earlier in summer\, later in winter. We begin with a simple opening ceremony\, and end sometime in the afternoon\, usually around 4:00 PM—but you can come at any time during the day. (Some folks do special projects at other times\, to fit their personal schedules\, by arrangement with the Director.)  \nVolunteers who work a “full” day—six hours or more—receive $40 in Beaver Bucks (applicable to any Ardantane event fee). Those who work 3-4 hours receive $20 in Beaver Bucks. First-timers are awarded the Blessed Beaver patch (embroidered emblem) to wear proudly on a cap or work shirt. Everyone receives free lunch and beverages\, as well as healthy exercise and camaraderie.  \nBring your sun hat and work gloves (we have loaners if you need them).  \nContact Azrael Arryn K at azraelak@gmail.com for directions and information. RSVP below if you like.
URL:https://ardantane.org/event/volunteer-work-day-november-2025/
LOCATION:Ardantane Campus\, Jemez Pueblo\, NM\, 87025\, United States
CATEGORIES:volunteer opportunity
ATTACH;FMTTYPE=image/jpeg:https://ardantane.org/wp-content/uploads/2022/06/volunteer.jpg
END:VEVENT
BEGIN:VEVENT
DTSTART;VALUE=DATE:20251113
DTEND;VALUE=DATE:20251117
DTSTAMP:20260424T212035
CREATED:20250503T175945Z
LAST-MODIFIED:20250702T041247Z
UID:4399-1762992000-1763337599@ardantane.org
SUMMARY:Hekate's Torch and Key Retreat 2025
DESCRIPTION:Hekate is the Queen of Heaven\, Earth\, and the Underworld\, Goddess of Magick\, Keeper of the Keys\, Torch-bearer\, Guide\, Protector\, and Savior. She is celebrated every November at the festival of Hekate Trivia\, Goddess of the Crossroads. \nWe will be gathering for a weekend retreat honoring Her at Ardantane\, and you are invited. \nThe retreat will be in-person on the lovely Ardantane campus in Northern New Mexico’s Jemez Mountains. There will be new presentations\, workshops\, and discussions about Her history and aspects\, and ways to serve Her as Her ally\, priestess or priest; a service project; a feast; and ritual at Hekate’s Circle\, located near a crossroads at Ardantane’s boundary. \nAs always\, the theme and workshops vary each year. We are still designing the program\, so if you have a theme suggestion or would maybe like to present a workshop\, let us know: info@ardantane.org. \nFee for the retreat: On-campus lodging is limited\, so contact Azrael at info@ardantane.org if you need cabin space. BEFORE YOU REGISTER. First come\, first served. You will likely be sharing the cabin space with other participants. We can handle 1 or 2 smaller RVs\, plus there is camping space. Other lodgings can be found in Jemez Springs\, just a few minutes’ drive from the campus. \nAttendance will be limited\, so register early! \nUPDATE: Campus cabins are full. Two spaces remain in the Dome (bring an air mattress and sleeping bag).
URL:https://ardantane.org/event/hekates-torch-and-key-retreat-2/
LOCATION:Ardantane Campus\, Jemez Pueblo\, NM\, 87025\, United States
CATEGORIES:Rituals
ATTACH;FMTTYPE=image/jpeg:https://ardantane.org/wp-content/uploads/2022/10/Hekate-2022.jpg
END:VEVENT
BEGIN:VEVENT
DTSTART;TZID=America/Denver:20251114T190000
DTEND;TZID=America/Denver:20251114T210000
DTSTAMP:20260424T212035
CREATED:20251017T221725Z
LAST-MODIFIED:20251017T221725Z
UID:4686-1763146800-1763154000@ardantane.org
SUMMARY:Death rites - The Healing Well and the Golden Portal
DESCRIPTION:Mandatory Prerequisite – attendance of the Healing Well guided journey in the previous month of October. In this workshop Wellyssa will share with you her method of healing and guiding souls on to the otherworld. This is deep work for advanced practitioners who are interested in assisting in the important task of guiding souls onward. We will be working with Anubis and the Morrigan in her form as Babd. “Washer at the Ford.” These two deities came forward as guides to work with Wellyssa as she began her own journey working with the dead. We will journey to our well\, call Anubis and Babd and then open the golden portal. (You will be opening your own portal\, in your own space. You will need a protective circle\, and strong energetic skills.) Wellyssa will guide us through the process of calling forth the spirits and working with Anubis and Babd to heal their souls prior to moving them on to the otherworld. This is deep\, and energetically demanding work. NOTE: Please have your space set up for ritual\, candles and offerings for Anubis and Babd\, and a glass of water for yourself. \nWellyssa Spellsong I am an energy healer\, psychic intuitive\, Wiccan High Priestess and teacher. I provide energy healing\, chakra and aura clearing\, emotional healing/clearing\, past life regression\, soul retrieval\, and akashic records journeying. I also read the bones and oracle cards and do house clearings. During healing work\, I look into the body and both see and feel where there is pain\, fatigue\, stuck energy\, or emotional trauma which has rooted itself within the body and needs to be released. I provide healing using various modalities such as energy\, sound vibration and crystals. For PLR\, Soul Retrieval and akashic records works I work with you in a state of trance to seek answers to your questions. I can also design powerful rituals\, mantras or affirmations to help you achieve your goals and desires. I enjoy teaching the client how to do their own work and healing. My path is deeply sacred. I have claimed this work as my path and my purpose. May I be of service to you. \n\nThis class is free to supporting members of Ardantane.  Others must register below. Be sure to add the number of tickets you want before clicking the Blue GET TICKETS button. The fee is $10. \n\n\nRegistration closes at 5PM Mountain Time on Thursday\, November 13th.
URL:https://ardantane.org/event/death-rites-the-healing-well-and-the-golden-portal/
LOCATION:Online\, NM\, 87025\, United States
ATTACH;FMTTYPE=image/avif:https://ardantane.org/wp-content/uploads/2025/10/Golden-portal.avif
END:VEVENT
BEGIN:VEVENT
DTSTART;TZID=America/Denver:20251121T190000
DTEND;TZID=America/Denver:20251121T210000
DTSTAMP:20260424T212035
CREATED:20250311T013734Z
LAST-MODIFIED:20250627T154214Z
UID:4277-1763751600-1763758800@ardantane.org
SUMMARY:Pagan Holy Sites and Pilgrimages
DESCRIPTION:What special places around the world are sacred to modern Pagans… or might be\, if we knew about them? Once you’ve visited Stonehenge on the summer solstice\, or Newgrange at Yule\, what sites could inspire you enough to make a pilgrimage? Let’s explore Glastonbury in England; Gobekli Tepe and Karahan Tepe in Turkiye; the temples of Artemis\, Athena\, and more around the Mediterranean; Kildare in Ireland and Brigit’s holy wells; Herne’s Windsor Forest; the Salem Memorial and Proctor’s Ledge; and other key places in Pagan history that are worth an expedition. Your hostess is Azrael Arynn K\, a Wiccan priestess and elder\, and organizer of travels to Scotland\, Slovenia\, and other delicious lands. \nAzrael Arynn K is a third-degree Wiccan Priestess and High Priest of the Coven of Our Lady of the Woods\, and has also held offices in the Covenant of the Goddess. She is both Facilities Director and Dean of the School of Sacred Living at Ardantane Pagan Learning Center. She co-authors books on the Craft with Amber K\, and travels and teaches widely throughout the United States. \nThis class is free to supporting members of Ardantane. Others must register  below. Be sure to add the number of tickets you want before clicking the Blue GET TICKETS button. The fee is $10. \nRegistration closes at 5PM Mountain Time on Thursday\, November 20th.
URL:https://ardantane.org/event/pagan-holy-sites-and-pilgrimages/
LOCATION:Online\, NM\, 87025\, United States
ATTACH;FMTTYPE=image/jpeg:https://ardantane.org/wp-content/uploads/2025/03/Newgrange_Ireland.jpg
END:VEVENT
BEGIN:VEVENT
DTSTART;TZID=America/Denver:20251128T190000
DTEND;TZID=America/Denver:20251128T210000
DTSTAMP:20260424T212035
CREATED:20251017T223342Z
LAST-MODIFIED:20251127T204600Z
UID:4690-1764356400-1764363600@ardantane.org
SUMMARY:Words of Power: Magickal Language
DESCRIPTION:From ancient magickal words\, languages and alphabets… to incantations\, invocations\, charms and commemorations… to affirmations\, afformations\, self-talk\, and the hidden power of “throwaway” thoughts and conversations… come explore the incredible power of words in shaping and creating our realities. Amber K and Azrael Arynn K will explore all this and offer proven practices that will lead to a more upbeat\, fulfilling\, and abundant life—using Words of Power—All of Them! \nAmber K is a third degree priestess of the Wiccan faith. She was initiated at the Temple of the Pagan Way in Chicago and served on the Council of Elders there. Her books on magick and the Craft have been widely circulated in the United States and Europe\, and for 35 years she has traveled across the U.S. teaching the Craft. She has worked with Circle and the Re-Formed Congregation of the Goddess\, and served as National First Officer of the Covenant of the Goddess for three terms. She is a founder of Our Lady of the Woods and the Ladywood Tradition of Wicca\, and currently is Executive Director of Ardantane\, a Wiccan/Pagan seminary is northern New Mexico. \nAzrael Arynn K is a third-degree Wiccan Priestess and High Priest of the Coven of Our Lady of the Woods\, and has also held offices in the Covenant of the Goddess. She is both Facilities Director and Dean of the School of Sacred Living at Ardantane Pagan Learning Center. She co-authors books on the Craft with Amber K\, and travels and teaches widely throughout the United States. \n\nThis class is free to supporting members of Ardantane.  Others must register below. Be sure to add the number of tickets you want before clicking the Blue GET TICKETS button. The fee is $10. \n\n\nRegistration closes at 5PM Mountain Time on Thursday\, Novembe 27th.
URL:https://ardantane.org/event/words-of-power-magickal-language/
LOCATION:Online\, NM\, 87025\, United States
ATTACH;FMTTYPE=image/jpeg:https://ardantane.org/wp-content/uploads/2025/10/Speaking-words.jpeg
END:VEVENT
END:VCALENDAR