BEGIN:VCALENDAR
VERSION:2.0
PRODID:-//Ardantane - ECPv6.15.18//NONSGML v1.0//EN
CALSCALE:GREGORIAN
METHOD:PUBLISH
X-WR-CALNAME:Ardantane
X-ORIGINAL-URL:https://ardantane.org
X-WR-CALDESC:Events for Ardantane
REFRESH-INTERVAL;VALUE=DURATION:PT1H
X-Robots-Tag:noindex
X-PUBLISHED-TTL:PT1H
BEGIN:VTIMEZONE
TZID:America/Denver
BEGIN:DAYLIGHT
TZOFFSETFROM:-0700
TZOFFSETTO:-0600
TZNAME:MDT
DTSTART:20250309T090000
END:DAYLIGHT
BEGIN:STANDARD
TZOFFSETFROM:-0600
TZOFFSETTO:-0700
TZNAME:MST
DTSTART:20251102T080000
END:STANDARD
BEGIN:DAYLIGHT
TZOFFSETFROM:-0700
TZOFFSETTO:-0600
TZNAME:MDT
DTSTART:20260308T090000
END:DAYLIGHT
BEGIN:STANDARD
TZOFFSETFROM:-0600
TZOFFSETTO:-0700
TZNAME:MST
DTSTART:20261101T080000
END:STANDARD
BEGIN:DAYLIGHT
TZOFFSETFROM:-0700
TZOFFSETTO:-0600
TZNAME:MDT
DTSTART:20270314T090000
END:DAYLIGHT
BEGIN:STANDARD
TZOFFSETFROM:-0600
TZOFFSETTO:-0700
TZNAME:MST
DTSTART:20271107T080000
END:STANDARD
END:VTIMEZONE
BEGIN:VEVENT
DTSTART;TZID=America/Denver:20260306T190000
DTEND;TZID=America/Denver:20260306T210000
DTSTAMP:20260424T121515
CREATED:20260201T163620Z
LAST-MODIFIED:20260215T172857Z
UID:4913-1772823600-1772830800@ardantane.org
SUMMARY:Exploring Candle Magick
DESCRIPTION:Step into the quiet alchemy of flame in this online pagan class devoted to exploring candle magick as a living\, breathing practice. Together we will trace the lineage of candles across folk magick and modern pagan paths\, learn how color\, timing\, herbs\, oils\, and intention shape a working\, and practice simple yet potent rituals you can safely perform at home. This class welcomes both curious beginners and seasoned practitioners seeking to deepen their craft through reverence\, focus\, and the steady glow of intention. \nMy Craft name is Kalisha Kfp\, though many of you also know me as Karen P. I have been a practicing witch since 1972 and I enjoy a 3rd degree or High Priestess status in several traditions including Gardnerian. My interests include Egyptology\, Speleology\, Archaeology/Anthropology\, Ancient religions & cultures\, Healing\, Herbs both magical & homeopathic\, Incense – history & use\, Mythology as relates to theology and psychology\, different types of magick\, and various forms of divination. I am a ravenous bookworm! \n\n\nThis class is free to supporting members of Ardantane.  Others must register below by clicking the Blue GET TICKETS button. The fee is $10. \n\n\n\nRegistration closes at 5PM Mountain Time on Thursday\, March 5th. \nGet Tickets
URL:https://ardantane.org/event/exploring-candle-magick/
LOCATION:Online\, NM\, 87025\, United States
ATTACH;FMTTYPE=image/jpeg:https://ardantane.org/wp-content/uploads/2026/02/Candles-and-Stones.jpg.jpeg
END:VEVENT
BEGIN:VEVENT
DTSTART;TZID=America/Denver:20260313T190000
DTEND;TZID=America/Denver:20260313T210000
DTSTAMP:20260424T121515
CREATED:20260201T164405Z
LAST-MODIFIED:20260215T173012Z
UID:4916-1773428400-1773435600@ardantane.org
SUMMARY:The Art of Resurrection - Death and Rebirth throughout the Ancient World.
DESCRIPTION:Did you know that Living Resurrection\, as a spiritual practice and act of transformation and transcendence\, existed thousands of years before being enacted in Christian theology? In the ancient world\, untold thousands of initiates willingly undertook an organized communal transformation process (an initiation)\, after which they would report no fear of death because they secured their place in the fortunate land of the afterlife. This experience was open to all social ranks from slave to Emperor\, male and female\, and not limited to specific racial or ethnic groups. It consisted of a ritual death and rebirth enactment which included a journey through the Underworld/Otherworld\, traversing all its trials and tribulations\, and being reborn anew. Come explore the Art of Resurrection from the Egyptians to the Greeks\, from the Celts to the Christians\, and beyond – and what it can offer to modern mystics. \nMonica Devi Bhakti has been working and teaching in the field of healing and energy work for over 25 years. She has worked with numerous sensitive individuals through Clairvoyant and Intuitive Readings\, Counseling\, Alchemical Hypnotherapy\, Massage\, Polarity\, and numerous other healing modalities. \nSteve Wilson\, MA\, LP\, LPC is a Psychologist in Durango\, CO specializing in Trauma\, Anxiety\, and Psychedelic Integration. With a BA in Religion and Philosophy\, Steve has practiced Zen\, Tantric Buddhism\, and Shamanism for decades. Since Crop Circles started increasing in complexity in the 90’s\, he has studied their sacred geometry\, and their influence in the evolution of humanity and planetary healing. \n\n\nThis class is free to supporting members of Ardantane.  Others must register below by clicking the Blue GET TICKETS button. The fee is $10. \n\n\n\nRegistration closes at 5PM Mountain Time on Thursday\, March 12th. \nGet Tickets
URL:https://ardantane.org/event/the-art-of-resurrection-death-and-rebirth-throughout-the-ancient-world/
LOCATION:Online\, NM\, 87025\, United States
ATTACH;FMTTYPE=image/jpeg:https://ardantane.org/wp-content/uploads/2026/02/Osiris.jpg
END:VEVENT
BEGIN:VEVENT
DTSTART;TZID=America/Denver:20260314T080000
DTEND;TZID=America/Denver:20260314T150000
DTSTAMP:20260424T121515
CREATED:20251207T023624Z
LAST-MODIFIED:20251207T023624Z
UID:4791-1773475200-1773500400@ardantane.org
SUMMARY:Volunteer Work Day March 2026
DESCRIPTION:Contribute your energy\, time\, and talents to the upkeep of our beautiful campus near Jemez Springs\, New Mexico. We work from 8:00 or 9:00 AM\, depending on the season… starting earlier in summer\, later in winter. We begin with a simple opening ceremony\, and end sometime in the afternoon\, usually around 3:00 PM—but you can come at any time during the day. (Some folks do special projects at other times\, to fit their personal schedules\, by arrangement with the Director.)  \nVolunteers who work a “full” day—six hours or more—receive $40 in Beaver Bucks (applicable to any Ardantane event fee). Those who work 3-4 hours receive $20 in Beaver Bucks. First-timers are awarded the Blessed Beaver patch (embroidered emblem) to wear proudly on a cap or work shirt. Everyone receives free lunch and beverages\, as well as healthy exercise and camaraderie.  \nBring your sun hat and work gloves (we have loaners if you need them).  \nContact Azrael Arryn K at azraelak@gmail.com for directions and information. RSVP below if you like.
URL:https://ardantane.org/event/volunteer-work-day-march-2026/
LOCATION:Ardantane Campus\, Jemez Pueblo\, NM\, 87025\, United States
CATEGORIES:volunteer opportunity
ATTACH;FMTTYPE=image/jpeg:https://ardantane.org/wp-content/uploads/2022/06/volunteer.jpg
END:VEVENT
END:VCALENDAR