BEGIN:VCALENDAR
VERSION:2.0
PRODID:-//Ardantane - ECPv6.15.18//NONSGML v1.0//EN
CALSCALE:GREGORIAN
METHOD:PUBLISH
X-WR-CALNAME:Ardantane
X-ORIGINAL-URL:https://ardantane.org
X-WR-CALDESC:Events for Ardantane
REFRESH-INTERVAL;VALUE=DURATION:PT1H
X-Robots-Tag:noindex
X-PUBLISHED-TTL:PT1H
BEGIN:VTIMEZONE
TZID:America/Denver
BEGIN:DAYLIGHT
TZOFFSETFROM:-0700
TZOFFSETTO:-0600
TZNAME:MDT
DTSTART:20250309T090000
END:DAYLIGHT
BEGIN:STANDARD
TZOFFSETFROM:-0600
TZOFFSETTO:-0700
TZNAME:MST
DTSTART:20251102T080000
END:STANDARD
BEGIN:DAYLIGHT
TZOFFSETFROM:-0700
TZOFFSETTO:-0600
TZNAME:MDT
DTSTART:20260308T090000
END:DAYLIGHT
BEGIN:STANDARD
TZOFFSETFROM:-0600
TZOFFSETTO:-0700
TZNAME:MST
DTSTART:20261101T080000
END:STANDARD
BEGIN:DAYLIGHT
TZOFFSETFROM:-0700
TZOFFSETTO:-0600
TZNAME:MDT
DTSTART:20270314T090000
END:DAYLIGHT
BEGIN:STANDARD
TZOFFSETFROM:-0600
TZOFFSETTO:-0700
TZNAME:MST
DTSTART:20271107T080000
END:STANDARD
END:VTIMEZONE
BEGIN:VEVENT
DTSTART;TZID=America/Denver:20260508T190000
DTEND;TZID=America/Denver:20260508T210000
DTSTAMP:20260423T182459
CREATED:20251228T171751Z
LAST-MODIFIED:20260307T182328Z
UID:4866-1778266800-1778274000@ardantane.org
SUMMARY:Identifying Poisonous Plants: How to Avoid Poisoning Yourself or Others
DESCRIPTION:Can you tell the difference between Queen Anne’s Lace and poison hemlock? Should you be concerned if your neighbor’s toddler nibbles on the Lily of the Valley growing in your yard? Just how much nutmeg is a fatal dose? How many apple seeds give you a fatal dose of cyanide? \nEmber will answer these questions\, and others\, while also providing information about which common ornamentals are toxic\, what medicinal plants require caution\, and she includes some antidotes as well as bonus material on other poisons. \nWhile the focus is on identifying poisonous plants so you don’t harm yourself or others\, Ember will also offer a brief introduction to the magickal correspondences found along the poison path. \nEmber has had a special interest in plants and herbal medicine all of her life. It started with her five-year-old self eating dandelions and tasting milkweed. Important reminder: supervise your children! Since then\, she has spent the past 50 years studying medicinal herbs\, making salves and tinctures\, and identifying as many plants as she can. \n\nThis class is free to supporting members of Ardantane.  Others must register below by clicking the Blue GET TICKETS button. The fee is $10. \n\n\nRegistration closes at 5PM Mountain Time on Thursday\, May 7th. \nGet Tickets
URL:https://ardantane.org/event/identifying-poisonous-plants/
LOCATION:Online\, NM\, 87025\, United States
CATEGORIES:Class Info
ATTACH;FMTTYPE=image/jpeg:https://ardantane.org/wp-content/uploads/2023/09/poisonour-plants.jpeg
END:VEVENT
END:VCALENDAR