BEGIN:VCALENDAR
VERSION:2.0
PRODID:-//Ardantane - ECPv6.15.18//NONSGML v1.0//EN
CALSCALE:GREGORIAN
METHOD:PUBLISH
X-ORIGINAL-URL:https://ardantane.org
X-WR-CALDESC:Events for Ardantane
REFRESH-INTERVAL;VALUE=DURATION:PT1H
X-Robots-Tag:noindex
X-PUBLISHED-TTL:PT1H
BEGIN:VTIMEZONE
TZID:America/Denver
BEGIN:DAYLIGHT
TZOFFSETFROM:-0700
TZOFFSETTO:-0600
TZNAME:MDT
DTSTART:20230312T090000
END:DAYLIGHT
BEGIN:STANDARD
TZOFFSETFROM:-0600
TZOFFSETTO:-0700
TZNAME:MST
DTSTART:20231105T080000
END:STANDARD
BEGIN:DAYLIGHT
TZOFFSETFROM:-0700
TZOFFSETTO:-0600
TZNAME:MDT
DTSTART:20240310T090000
END:DAYLIGHT
BEGIN:STANDARD
TZOFFSETFROM:-0600
TZOFFSETTO:-0700
TZNAME:MST
DTSTART:20241103T080000
END:STANDARD
BEGIN:DAYLIGHT
TZOFFSETFROM:-0700
TZOFFSETTO:-0600
TZNAME:MDT
DTSTART:20250309T090000
END:DAYLIGHT
BEGIN:STANDARD
TZOFFSETFROM:-0600
TZOFFSETTO:-0700
TZNAME:MST
DTSTART:20251102T080000
END:STANDARD
END:VTIMEZONE
BEGIN:VEVENT
DTSTART;TZID=America/Denver:20240621T190000
DTEND;TZID=America/Denver:20240621T210000
DTSTAMP:20260425T195845
CREATED:20240329T021858Z
LAST-MODIFIED:20240601T000004Z
UID:3397-1718996400-1719003600@ardantane.org
SUMMARY:Online Litha Ritual
DESCRIPTION:As the wheel of the year turns and the sun reaches its peak\, we invite you to join us for a virtual gathering to celebrate Litha\, the summer solstice! While we may be physically apart\, our spirits unite in this digital sacred space to honor the abundance of the season and bask in the glow of the sun’s radiant energy. Gather with us as we weave together moments of reflection\, ritual\, and connection\, honoring the vibrant energy of summer and the blessings of the natural world. \nAmber K is a third degree priestess of the Wiccan faith. She was initiated at the Temple of the Pagan Way in Chicago and served on the Council of Elders there. Her books on magick and the Craft have been widely circulated in the United States and Europe\, and for 35 years she has traveled across the U.S. teaching the Craft. She has worked with Circle and the Re-Formed Congregation of the Goddess\, and served as National First Officer of the Covenant of the Goddess for three terms. She is a founder of Our Lady of the Woods and the Ladywood Tradition of Wicca\, and currently is Executive Director of Ardantane\, a Wiccan/Pagan seminary is northern New Mexico. \nThis class is free to supporting members of Ardantane. Others must register below. Be sure to add the number of tickets you want before clicking the Blue GET TICKETS button. The fee is $10. \nRegistration closes at 5PM Mountain Time on Thursday\, June 20th. \n 
URL:https://ardantane.org/event/online-litha-ritual/
LOCATION:Online\, NM\, 87025\, United States
CATEGORIES:Class Info
ATTACH;FMTTYPE=image/jpeg:https://ardantane.org/wp-content/uploads/2024/03/flower_crown.jpg
END:VEVENT
END:VCALENDAR