BEGIN:VCALENDAR
VERSION:2.0
PRODID:-//Ardantane - ECPv6.15.18//NONSGML v1.0//EN
CALSCALE:GREGORIAN
METHOD:PUBLISH
X-ORIGINAL-URL:https://ardantane.org
X-WR-CALDESC:Events for Ardantane
REFRESH-INTERVAL;VALUE=DURATION:PT1H
X-Robots-Tag:noindex
X-PUBLISHED-TTL:PT1H
BEGIN:VTIMEZONE
TZID:America/Denver
BEGIN:DAYLIGHT
TZOFFSETFROM:-0700
TZOFFSETTO:-0600
TZNAME:MDT
DTSTART:20240310T090000
END:DAYLIGHT
BEGIN:STANDARD
TZOFFSETFROM:-0600
TZOFFSETTO:-0700
TZNAME:MST
DTSTART:20241103T080000
END:STANDARD
BEGIN:DAYLIGHT
TZOFFSETFROM:-0700
TZOFFSETTO:-0600
TZNAME:MDT
DTSTART:20250309T090000
END:DAYLIGHT
BEGIN:STANDARD
TZOFFSETFROM:-0600
TZOFFSETTO:-0700
TZNAME:MST
DTSTART:20251102T080000
END:STANDARD
BEGIN:DAYLIGHT
TZOFFSETFROM:-0700
TZOFFSETTO:-0600
TZNAME:MDT
DTSTART:20260308T090000
END:DAYLIGHT
BEGIN:STANDARD
TZOFFSETFROM:-0600
TZOFFSETTO:-0700
TZNAME:MST
DTSTART:20261101T080000
END:STANDARD
END:VTIMEZONE
BEGIN:VEVENT
DTSTART;TZID=America/Denver:20251219T190000
DTEND;TZID=America/Denver:20251219T210000
DTSTAMP:20260424T031223
CREATED:20251105T030730Z
LAST-MODIFIED:20251127T205159Z
UID:4732-1766170800-1766178000@ardantane.org
SUMMARY:Yule: Traditions and Celebrations (online)
DESCRIPTION:The ancient Germanic and Scandinavian celebrations of Yule occurred at winter solstice—the longest night of the year. Join us for an online Ardantane version of the longest night where we will explore the origins and traditions of Yule\, explore the season through the eyes of our ancestors\, and hold a short ritual to find the hope in the darkness. \n\nThis class is free to supporting members of Ardantane.  Others must register below. Be sure to add the number of tickets you want before clicking the Blue GET TICKETS button. The fee is $10. \n\n\nRegistration closes at 5PM Mountain Time on Thursday\, December 18th.
URL:https://ardantane.org/event/yule-traditions-and-celebrations-online/
LOCATION:Online\, NM\, 87025\, United States
ATTACH;FMTTYPE=image/jpeg:https://ardantane.org/wp-content/uploads/2025/11/candles.jpeg
END:VEVENT
END:VCALENDAR