BEGIN:VCALENDAR
VERSION:2.0
PRODID:-//Ardantane - ECPv6.15.18//NONSGML v1.0//EN
CALSCALE:GREGORIAN
METHOD:PUBLISH
X-WR-CALNAME:Ardantane
X-ORIGINAL-URL:https://ardantane.org
X-WR-CALDESC:Events for Ardantane
REFRESH-INTERVAL;VALUE=DURATION:PT1H
X-Robots-Tag:noindex
X-PUBLISHED-TTL:PT1H
BEGIN:VTIMEZONE
TZID:America/Denver
BEGIN:DAYLIGHT
TZOFFSETFROM:-0700
TZOFFSETTO:-0600
TZNAME:MDT
DTSTART:20240310T090000
END:DAYLIGHT
BEGIN:STANDARD
TZOFFSETFROM:-0600
TZOFFSETTO:-0700
TZNAME:MST
DTSTART:20241103T080000
END:STANDARD
BEGIN:DAYLIGHT
TZOFFSETFROM:-0700
TZOFFSETTO:-0600
TZNAME:MDT
DTSTART:20250309T090000
END:DAYLIGHT
BEGIN:STANDARD
TZOFFSETFROM:-0600
TZOFFSETTO:-0700
TZNAME:MST
DTSTART:20251102T080000
END:STANDARD
BEGIN:DAYLIGHT
TZOFFSETFROM:-0700
TZOFFSETTO:-0600
TZNAME:MDT
DTSTART:20260308T090000
END:DAYLIGHT
BEGIN:STANDARD
TZOFFSETFROM:-0600
TZOFFSETTO:-0700
TZNAME:MST
DTSTART:20261101T080000
END:STANDARD
END:VTIMEZONE
BEGIN:VEVENT
DTSTART;TZID=America/Denver:20251031T190000
DTEND;TZID=America/Denver:20251031T210000
DTSTAMP:20260424T073322
CREATED:20250821T042805Z
LAST-MODIFIED:20250821T042805Z
UID:4609-1761937200-1761944400@ardantane.org
SUMMARY:Samhain Online
DESCRIPTION:Join us for a sacred and transformative online Samhain ritual\, a time to honor the veil between the worlds and celebrate the rich tapestry of life and death. As we gather virtually\, we’ll embrace this enchanting festival that marks the end of the harvest season and the beginning of winter\, traditionally celebrated on the night of October 31st. \nMy Craft name is Kalisha Kfp\, though many of you also know me as Karen P. I have been a practicing witch since 1972 and I enjoy a 3rd degree or High Priestess status in several traditions including Gardnerian. My interests include Egyptology\, Speleology\, Archaeology/Anthropology\, Ancient religions & cultures\, Healing\, Herbs both magical & homeopathic\, Incense – history & use\, Mythology as relates to theology and psychology\, different types of magick\, and various forms of divination. I am a ravenous bookworm! \nNOTE: This is an online session. If you would like to join us for an in-person ritual at the Ardantane campus on November 1st\, check out that event at https://ardantane.org/event/samhain-sabbat-ritual-at-ardantane/. \n\nThis class is free to supporting members of Ardantane.  Others must register below. Be sure to add the number of tickets you want before clicking the Blue GET TICKETS button. The fee is $10. \n\n\nRegistration closes at 5PM Mountain Time on Thursday\, October 30th.
URL:https://ardantane.org/event/samhain-online/
LOCATION:Online\, NM\, 87025\, United States
ATTACH;FMTTYPE=image/jpeg:https://ardantane.org/wp-content/uploads/2025/08/Samhain-pumpkin.jpg
END:VEVENT
END:VCALENDAR