BEGIN:VCALENDAR
VERSION:2.0
PRODID:-//Ardantane - ECPv6.15.18//NONSGML v1.0//EN
CALSCALE:GREGORIAN
METHOD:PUBLISH
X-WR-CALNAME:Ardantane
X-ORIGINAL-URL:https://ardantane.org
X-WR-CALDESC:Events for Ardantane
REFRESH-INTERVAL;VALUE=DURATION:PT1H
X-Robots-Tag:noindex
X-PUBLISHED-TTL:PT1H
BEGIN:VTIMEZONE
TZID:America/Denver
BEGIN:DAYLIGHT
TZOFFSETFROM:-0700
TZOFFSETTO:-0600
TZNAME:MDT
DTSTART:20240310T090000
END:DAYLIGHT
BEGIN:STANDARD
TZOFFSETFROM:-0600
TZOFFSETTO:-0700
TZNAME:MST
DTSTART:20241103T080000
END:STANDARD
BEGIN:DAYLIGHT
TZOFFSETFROM:-0700
TZOFFSETTO:-0600
TZNAME:MDT
DTSTART:20250309T090000
END:DAYLIGHT
BEGIN:STANDARD
TZOFFSETFROM:-0600
TZOFFSETTO:-0700
TZNAME:MST
DTSTART:20251102T080000
END:STANDARD
BEGIN:DAYLIGHT
TZOFFSETFROM:-0700
TZOFFSETTO:-0600
TZNAME:MDT
DTSTART:20260308T090000
END:DAYLIGHT
BEGIN:STANDARD
TZOFFSETFROM:-0600
TZOFFSETTO:-0700
TZNAME:MST
DTSTART:20261101T080000
END:STANDARD
END:VTIMEZONE
BEGIN:VEVENT
DTSTART;TZID=America/Denver:20250801T190000
DTEND;TZID=America/Denver:20250801T210000
DTSTAMP:20260424T101641
CREATED:20250406T213916Z
LAST-MODIFIED:20250626T022412Z
UID:4362-1754074800-1754082000@ardantane.org
SUMMARY:(Re) Creating Your Own Daily Spiritual Practice
DESCRIPTION:Do you have a daily practice—or several—that keep you healthy\, happy\, and balanced? Does it include meditation\, divination\, music\, running\, or time with the family dog? What about pranayama\, the Middle Pillar\, or a visit to an astral temple? What about a conversation with a deity or tree spirit? Daily spiritual practices are as diverse as humanity. We can hope that yours is engaging\, effective\, and in balance. But does it need to expand\, evolve\, or change? Join the discussion with Amber K\, who has served as a Wiccan priestess for 45 years and has seen some different approaches to self-maintenance and spiritual growth. \nAmber K is a third degree priestess of the Wiccan faith. She was initiated at the Temple of the Pagan Way in Chicago and served on the Council of Elders there. Her books on magick and the Craft have been widely circulated in the United States and Europe\, and for 35 years she has traveled across the U.S. teaching the Craft. She has worked with Circle and the Re-Formed Congregation of the Goddess\, and served as National First Officer of the Covenant of the Goddess for three terms. She is a founder of Our Lady of the Woods and the Ladywood Tradition of Wicca\, and currently is Executive Director of Ardantane. \n\nThis class is free to supporting members of Ardantane.  Others must register below. Be sure to add the number of tickets you want before clicking the Blue GET TICKETS button. The fee is $10. \n\n\nRegistration closes at 5PM Mountain Time on Thursday\, July 31st.
URL:https://ardantane.org/event/re-creating-your-own-daily-spiritual-practice/
LOCATION:Online\, NM\, 87025\, United States
ATTACH;FMTTYPE=image/jpeg:https://ardantane.org/wp-content/uploads/2025/04/meditation.jpeg
END:VEVENT
END:VCALENDAR