BEGIN:VCALENDAR
VERSION:2.0
PRODID:-//Ardantane - ECPv6.15.18//NONSGML v1.0//EN
CALSCALE:GREGORIAN
METHOD:PUBLISH
X-ORIGINAL-URL:https://ardantane.org
X-WR-CALDESC:Events for Ardantane
REFRESH-INTERVAL;VALUE=DURATION:PT1H
X-Robots-Tag:noindex
X-PUBLISHED-TTL:PT1H
BEGIN:VTIMEZONE
TZID:America/Denver
BEGIN:DAYLIGHT
TZOFFSETFROM:-0700
TZOFFSETTO:-0600
TZNAME:MDT
DTSTART:20240310T090000
END:DAYLIGHT
BEGIN:STANDARD
TZOFFSETFROM:-0600
TZOFFSETTO:-0700
TZNAME:MST
DTSTART:20241103T080000
END:STANDARD
BEGIN:DAYLIGHT
TZOFFSETFROM:-0700
TZOFFSETTO:-0600
TZNAME:MDT
DTSTART:20250309T090000
END:DAYLIGHT
BEGIN:STANDARD
TZOFFSETFROM:-0600
TZOFFSETTO:-0700
TZNAME:MST
DTSTART:20251102T080000
END:STANDARD
BEGIN:DAYLIGHT
TZOFFSETFROM:-0700
TZOFFSETTO:-0600
TZNAME:MDT
DTSTART:20260308T090000
END:DAYLIGHT
BEGIN:STANDARD
TZOFFSETFROM:-0600
TZOFFSETTO:-0700
TZNAME:MST
DTSTART:20261101T080000
END:STANDARD
END:VTIMEZONE
BEGIN:VEVENT
DTSTART;TZID=America/Denver:20250815T190000
DTEND;TZID=America/Denver:20250815T210000
DTSTAMP:20260424T100813
CREATED:20250627T145930Z
LAST-MODIFIED:20250813T161658Z
UID:4488-1755284400-1755291600@ardantane.org
SUMMARY:Pagan Tenets
DESCRIPTION:Join Larissa Gibbs as she leads a discussion as to what it means to be Pagan. We each have our own individual gifts to bring to our spiritual path\, but how can we express that to others? What rules do we live by? How do we answer the big questions of life and death\, and how do we celebrate our path? Larissa will look at historical aspects of various pagan tenets from different authors and councils. How do these tenets apply to the neo-pagan community today? \nLarissa Gibbs has been a practicing neo-pagan since she was a teenager. She did a self dedication at the age of 16 and has never looked back. Over the years\, Larissa has practiced as a solitary pagan\, as well as worked with two covens\, and with her family coven. She was the coordinator for the children’s realm of the Las Cruces Pagan Pride Day event for maybe five years. In 2011\, she became one of the founding members of Desert Spirit CUUPS at the Las Cruces New Mexico Unitarian Universalist Church where she continues to serve as ritual coordinator. She is also a longstanding member and contributor to the Las Cruces-based\, women’s spirituality group\, Moonsisters. Larissa has a BS in biology\, worked as a research biologist for 10 years and now teaches high school biology. She finds that one of the most profound truths in biology is the universal genetic code of life. Scientifically we know that all life is genetically related\, spiritually we can feel at one with all life on Earth. Larissa also looks to history and archaeology to understand past and present human belief systems. Marija Gimbutas’ work with neolithic and Mesolithic imagery and megalithic mounds is very informative for Larissa as well. Larissa feels that science informs our world view and paganism gives us a way to contextualize our place in the world. \n\nThis class is free to supporting members of Ardantane.  Others must register below. Be sure to add the number of tickets you want before clicking the Blue GET TICKETS button. The fee is $10. \n\n\nRegistration closes at 5PM Mountain Time on Thursday\, August 14th.
URL:https://ardantane.org/event/pagan-tenets/
LOCATION:Online\, NM\, 87025\, United States
ATTACH;FMTTYPE=image/jpeg:https://ardantane.org/wp-content/uploads/2023/09/treebywater.jpg
END:VEVENT
END:VCALENDAR