BEGIN:VCALENDAR
VERSION:2.0
PRODID:-//Ardantane - ECPv6.15.18//NONSGML v1.0//EN
CALSCALE:GREGORIAN
METHOD:PUBLISH
X-ORIGINAL-URL:https://ardantane.org
X-WR-CALDESC:Events for Ardantane
REFRESH-INTERVAL;VALUE=DURATION:PT1H
X-Robots-Tag:noindex
X-PUBLISHED-TTL:PT1H
BEGIN:VTIMEZONE
TZID:America/Denver
BEGIN:DAYLIGHT
TZOFFSETFROM:-0700
TZOFFSETTO:-0600
TZNAME:MDT
DTSTART:20250309T090000
END:DAYLIGHT
BEGIN:STANDARD
TZOFFSETFROM:-0600
TZOFFSETTO:-0700
TZNAME:MST
DTSTART:20251102T080000
END:STANDARD
BEGIN:DAYLIGHT
TZOFFSETFROM:-0700
TZOFFSETTO:-0600
TZNAME:MDT
DTSTART:20260308T090000
END:DAYLIGHT
BEGIN:STANDARD
TZOFFSETFROM:-0600
TZOFFSETTO:-0700
TZNAME:MST
DTSTART:20261101T080000
END:STANDARD
BEGIN:DAYLIGHT
TZOFFSETFROM:-0700
TZOFFSETTO:-0600
TZNAME:MDT
DTSTART:20270314T090000
END:DAYLIGHT
BEGIN:STANDARD
TZOFFSETFROM:-0600
TZOFFSETTO:-0700
TZNAME:MST
DTSTART:20271107T080000
END:STANDARD
END:VTIMEZONE
BEGIN:VEVENT
DTSTART;TZID=America/Denver:20260505T190000
DTEND;TZID=America/Denver:20260505T210000
DTSTAMP:20260423T160930
CREATED:20260201T175027Z
LAST-MODIFIED:20260327T021415Z
UID:4929-1778007600-1778014800@ardantane.org
SUMMARY:Survey of Pagan Spirituality: Course 100
DESCRIPTION:THIS COURSE RUNS FOR 4 WEEKS\, TUESDAYS IN MAY STARTING MAY 5TH. \nHave you ever wondered what spirituality is? How it is defined? What makes you a spiritual person? And\, more specifically\, what is Pagan Spirituality? Labels help define our state of Being to the world\, but actually show nothing about who we really are. The objective here is learning to let our LIGHT shine without the need of labels. \nBy developing a vocabulary\, continuity is established. \nClass 101\, Spirituality: In this first class we will walk thru the world of what being spiritual means\, and\, most importantly\, how spirituality is relevant in your life. \n102 will survey how beliefs and practices around the world and through time have influenced us not only in our spiritual lives\, but also shaped the larger culture in which we participate. \n103 (Survey of surviving Pagan traditions\, NeoPagan\, and related spiritualities?) and 104 (probably Cosmologies: How the Universe works\, and our place in it) are still in flux\, and will be announced in the March Herald. \nThe course fee is $80 for Ardantane Members\, and $100 for non-members. Register below by clicking the Blue GET TICKETS button. Beaver Bucks are welcome! Please contact us at info@ardantane.org if you would like to use Beaver Bucks. \nRegistration closes Sunday May 3th at 5 pm MT. \nGet Tickets
URL:https://ardantane.org/event/survey-of-pagan-spirituality-course-100/
LOCATION:Online\, NM\, 87025\, United States
ATTACH;FMTTYPE=image/jpeg:https://ardantane.org/wp-content/uploads/2026/02/Spiritual-path.jpg
END:VEVENT
END:VCALENDAR