BEGIN:VCALENDAR
VERSION:2.0
PRODID:-//Ardantane - ECPv6.15.18//NONSGML v1.0//EN
CALSCALE:GREGORIAN
METHOD:PUBLISH
X-WR-CALNAME:Ardantane
X-ORIGINAL-URL:https://ardantane.org
X-WR-CALDESC:Events for Ardantane
REFRESH-INTERVAL;VALUE=DURATION:PT1H
X-Robots-Tag:noindex
X-PUBLISHED-TTL:PT1H
BEGIN:VTIMEZONE
TZID:America/Denver
BEGIN:DAYLIGHT
TZOFFSETFROM:-0700
TZOFFSETTO:-0600
TZNAME:MDT
DTSTART:20250309T090000
END:DAYLIGHT
BEGIN:STANDARD
TZOFFSETFROM:-0600
TZOFFSETTO:-0700
TZNAME:MST
DTSTART:20251102T080000
END:STANDARD
BEGIN:DAYLIGHT
TZOFFSETFROM:-0700
TZOFFSETTO:-0600
TZNAME:MDT
DTSTART:20260308T090000
END:DAYLIGHT
BEGIN:STANDARD
TZOFFSETFROM:-0600
TZOFFSETTO:-0700
TZNAME:MST
DTSTART:20261101T080000
END:STANDARD
BEGIN:DAYLIGHT
TZOFFSETFROM:-0700
TZOFFSETTO:-0600
TZNAME:MDT
DTSTART:20270314T090000
END:DAYLIGHT
BEGIN:STANDARD
TZOFFSETFROM:-0600
TZOFFSETTO:-0700
TZNAME:MST
DTSTART:20271107T080000
END:STANDARD
END:VTIMEZONE
BEGIN:VEVENT
DTSTART;TZID=America/Denver:20260116T190000
DTEND;TZID=America/Denver:20260116T210000
DTSTAMP:20260424T063315
CREATED:20251224T003834Z
LAST-MODIFIED:20260107T002133Z
UID:4847-1768590000-1768597200@ardantane.org
SUMMARY:Legendary Stones
DESCRIPTION:Some of us are addicted. We love rocks. Stones. Pebbles. Boulders. Gems and crystals\, too\, but even rough stones that are just… cool. So maybe you’ll enjoy a trip around the world to visit some of the very coolest stone monuments\, natural rock wonders\, and strange anomalies of the Stone World. Let’s get stoned together. \nAmber K is a priestess of the Wiccan faith\, as well as an author and teacher. She was initiated at the Temple of the Pagan Way in Chicago in 1978\, and is co-founder of the Ladywood Tradition of Wicca. She served three terms as National First Officer of Covenant of the Goddess\, the largest federation of Witches’ covens and solitary Witches. She has been teaching and writing about the Craft and magick for more than 45 years. Currently Amber is Executive Director\, and Dean of the School of Pagan Leadership\, at Ardantane Pagan school and retreat center; see ardantane.org. Amber and Azrael Arynn K were handfasted in 1994\, and married a few years later. They live in northern New Mexico at the Ardantane campus\, where they teach and write books. Amber K is the author of True Magick: A Beginner’s Guide\, and Stone Witchery and Divination\, and has co-authored several other books with Azrael\, including the award-winning RitualCraft: Creating Rites for Transformation and Celebration. See their other titles at magickwithamberk.com. \n\nAll Friday Fireside Seminars are free in January 2026! All Friday Fireside Seminars are free in January 2026! Email registration@ardantane.org for the link.
URL:https://ardantane.org/event/legendary-stones/
LOCATION:Online\, NM\, 87025\, United States
ATTACH;FMTTYPE=image/jpeg:https://ardantane.org/wp-content/uploads/2025/12/Stones.jpg
END:VEVENT
END:VCALENDAR