BEGIN:VCALENDAR
VERSION:2.0
PRODID:-//Ardantane - ECPv6.15.18//NONSGML v1.0//EN
CALSCALE:GREGORIAN
METHOD:PUBLISH
X-ORIGINAL-URL:https://ardantane.org
X-WR-CALDESC:Events for Ardantane
REFRESH-INTERVAL;VALUE=DURATION:PT1H
X-Robots-Tag:noindex
X-PUBLISHED-TTL:PT1H
BEGIN:VTIMEZONE
TZID:America/Denver
BEGIN:DAYLIGHT
TZOFFSETFROM:-0700
TZOFFSETTO:-0600
TZNAME:MDT
DTSTART:20250309T090000
END:DAYLIGHT
BEGIN:STANDARD
TZOFFSETFROM:-0600
TZOFFSETTO:-0700
TZNAME:MST
DTSTART:20251102T080000
END:STANDARD
BEGIN:DAYLIGHT
TZOFFSETFROM:-0700
TZOFFSETTO:-0600
TZNAME:MDT
DTSTART:20260308T090000
END:DAYLIGHT
BEGIN:STANDARD
TZOFFSETFROM:-0600
TZOFFSETTO:-0700
TZNAME:MST
DTSTART:20261101T080000
END:STANDARD
BEGIN:DAYLIGHT
TZOFFSETFROM:-0700
TZOFFSETTO:-0600
TZNAME:MDT
DTSTART:20270314T090000
END:DAYLIGHT
BEGIN:STANDARD
TZOFFSETFROM:-0600
TZOFFSETTO:-0700
TZNAME:MST
DTSTART:20271107T080000
END:STANDARD
END:VTIMEZONE
BEGIN:VEVENT
DTSTART;TZID=America/Denver:20260130T190000
DTEND;TZID=America/Denver:20260130T190000
DTSTAMP:20260424T013338
CREATED:20251228T173327Z
LAST-MODIFIED:20260107T002447Z
UID:4870-1769799600-1769799600@ardantane.org
SUMMARY:Online Imbolc
DESCRIPTION:It is traditional to consecrate tools\, magickal jewelry\, and similar items at Imbolc. Join Rowan for a brief overview of basic Magickal tools and an online consecration ritual. \nRowan has been active in the pagan community of northern New Mexico for over 35 years. She is a third degree initiate of the Ladywoods tradition and currently serves as the Dean of the School of Magick and Witchcraft at Ardantane. In her mundane life\, she holds a BS in education from UT El Paso\, and an MBA from UNM. She has taught at festivals in New Mexico and Colorado and nationally\, but enjoys teaching at Ardantane the most. \nNOTE THAT THIS IS AN ONLINE EVENT. If you would like an in-person event at the Ardantane campus\, we are holding an Imbolg celebration. Information for that event is on our website. \nAll Friday Fireside Seminars are free in January 2026! Email registration@ardantane.org for the link.
URL:https://ardantane.org/event/imbolc-1-2026/
LOCATION:Online\, NM\, 87025\, United States
CATEGORIES:Rituals
ATTACH;FMTTYPE=image/jpeg:https://ardantane.org/wp-content/uploads/2023/12/Imbolc-altar.jpeg
END:VEVENT
END:VCALENDAR