BEGIN:VCALENDAR
VERSION:2.0
PRODID:-//Ardantane - ECPv6.15.18//NONSGML v1.0//EN
CALSCALE:GREGORIAN
METHOD:PUBLISH
X-WR-CALNAME:Ardantane
X-ORIGINAL-URL:https://ardantane.org
X-WR-CALDESC:Events for Ardantane
REFRESH-INTERVAL;VALUE=DURATION:PT1H
X-Robots-Tag:noindex
X-PUBLISHED-TTL:PT1H
BEGIN:VTIMEZONE
TZID:America/Denver
BEGIN:DAYLIGHT
TZOFFSETFROM:-0700
TZOFFSETTO:-0600
TZNAME:MDT
DTSTART:20250309T090000
END:DAYLIGHT
BEGIN:STANDARD
TZOFFSETFROM:-0600
TZOFFSETTO:-0700
TZNAME:MST
DTSTART:20251102T080000
END:STANDARD
BEGIN:DAYLIGHT
TZOFFSETFROM:-0700
TZOFFSETTO:-0600
TZNAME:MDT
DTSTART:20260308T090000
END:DAYLIGHT
BEGIN:STANDARD
TZOFFSETFROM:-0600
TZOFFSETTO:-0700
TZNAME:MST
DTSTART:20261101T080000
END:STANDARD
BEGIN:DAYLIGHT
TZOFFSETFROM:-0700
TZOFFSETTO:-0600
TZNAME:MDT
DTSTART:20270314T090000
END:DAYLIGHT
BEGIN:STANDARD
TZOFFSETFROM:-0600
TZOFFSETTO:-0700
TZNAME:MST
DTSTART:20271107T080000
END:STANDARD
END:VTIMEZONE
BEGIN:VEVENT
DTSTART;TZID=America/Denver:20261219T180000
DTEND;TZID=America/Denver:20261219T210000
DTSTAMP:20260423T160355
CREATED:20251207T022714Z
LAST-MODIFIED:20251207T022714Z
UID:4785-1797703200-1797714000@ardantane.org
SUMMARY:Yule Sabbat Ritual at Ardantane
DESCRIPTION:Join us in celebrating Yule\, the Winter Solstice—a time of stillness\, hope\, and the rebirth of the sun. Together we will honor the turning of the Wheel\, reflect on the closing of the year\, and welcome the return of the light as it begins its slow ascent. Through quiet reflection\, symbolic renewal\, and shared intention\, we gather in community to kindle warmth in the darkest night. All are welcome to take part in this peaceful and heartfelt celebration of Yule. \nThere will will songs\, stories\, fellowship and feasting. Bring a potluck dish or beverage. No charge\, though freewill donations are welcome. \nContact info@ardantane.org for directions or more information. You may RSVP below if you like. \nNOTE THAT THIS IS AN IN-PERSON RITUAL. You may also want to check our website for details on our online ritual scheduled for December 18th.
URL:https://ardantane.org/event/yule-sabbat-ritual-at-ardantane-2026/
LOCATION:Ardantane Campus\, Jemez Pueblo\, NM\, 87025\, United States
CATEGORIES:Rituals
ATTACH;FMTTYPE=image/jpeg:https://ardantane.org/wp-content/uploads/2024/06/Yule-altar.jpeg
END:VEVENT
END:VCALENDAR