BEGIN:VCALENDAR
VERSION:2.0
PRODID:-//Ardantane - ECPv6.15.18//NONSGML v1.0//EN
CALSCALE:GREGORIAN
METHOD:PUBLISH
X-WR-CALNAME:Ardantane
X-ORIGINAL-URL:https://ardantane.org
X-WR-CALDESC:Events for Ardantane
REFRESH-INTERVAL;VALUE=DURATION:PT1H
X-Robots-Tag:noindex
X-PUBLISHED-TTL:PT1H
BEGIN:VTIMEZONE
TZID:America/Denver
BEGIN:DAYLIGHT
TZOFFSETFROM:-0700
TZOFFSETTO:-0600
TZNAME:MDT
DTSTART:20240310T090000
END:DAYLIGHT
BEGIN:STANDARD
TZOFFSETFROM:-0600
TZOFFSETTO:-0700
TZNAME:MST
DTSTART:20241103T080000
END:STANDARD
BEGIN:DAYLIGHT
TZOFFSETFROM:-0700
TZOFFSETTO:-0600
TZNAME:MDT
DTSTART:20250309T090000
END:DAYLIGHT
BEGIN:STANDARD
TZOFFSETFROM:-0600
TZOFFSETTO:-0700
TZNAME:MST
DTSTART:20251102T080000
END:STANDARD
BEGIN:DAYLIGHT
TZOFFSETFROM:-0700
TZOFFSETTO:-0600
TZNAME:MDT
DTSTART:20260308T090000
END:DAYLIGHT
BEGIN:STANDARD
TZOFFSETFROM:-0600
TZOFFSETTO:-0700
TZNAME:MST
DTSTART:20261101T080000
END:STANDARD
END:VTIMEZONE
BEGIN:VEVENT
DTSTART;TZID=America/Denver:20251104T190000
DTEND;TZID=America/Denver:20251104T210000
DTSTAMP:20260424T044658
CREATED:20241202T021111Z
LAST-MODIFIED:20241202T021246Z
UID:4050-1762282800-1762290000@ardantane.org
SUMMARY:Wicca 101 November 2025
DESCRIPTION:An introduction to the Old Religion\, the Craft of the Wise; with history\, gods and goddesses\, magick and ritual\, spiritual practices\, customs and traditions\, covens and solitaries\, cosmology and myths\, the Wheel of the Year and more\, from experienced Witches. This class will be taught over four evenings online (Tuesdays in November). Students will be asked to complete assignments between classes to further their understanding and experience with the subjects covered. \nThis course is FREE to anyone interested in learning the basic principles of Wicca. Register below. \nRegistration closes at 5PM on Monday November 3rd. \nBridget and Rowan have a combined total of over 70 years of experience practicing and teaching Wicca to students of all backgrounds and skill levels. Come join them to learn the basics of this unique spiritual practice.
URL:https://ardantane.org/event/wicca-101-november-2025/
LOCATION:Online\, NM\, 87025\, United States
CATEGORIES:Class Info
ATTACH;FMTTYPE=image/png:https://ardantane.org/wp-content/uploads/2023/01/Wicca-101-FREE.png
END:VEVENT
END:VCALENDAR