BEGIN:VCALENDAR
VERSION:2.0
PRODID:-//Ardantane - ECPv6.15.18//NONSGML v1.0//EN
CALSCALE:GREGORIAN
METHOD:PUBLISH
X-WR-CALNAME:Ardantane
X-ORIGINAL-URL:https://ardantane.org
X-WR-CALDESC:Events for Ardantane
REFRESH-INTERVAL;VALUE=DURATION:PT1H
X-Robots-Tag:noindex
X-PUBLISHED-TTL:PT1H
BEGIN:VTIMEZONE
TZID:America/Denver
BEGIN:DAYLIGHT
TZOFFSETFROM:-0700
TZOFFSETTO:-0600
TZNAME:MDT
DTSTART:20240310T090000
END:DAYLIGHT
BEGIN:STANDARD
TZOFFSETFROM:-0600
TZOFFSETTO:-0700
TZNAME:MST
DTSTART:20241103T080000
END:STANDARD
BEGIN:DAYLIGHT
TZOFFSETFROM:-0700
TZOFFSETTO:-0600
TZNAME:MDT
DTSTART:20250309T090000
END:DAYLIGHT
BEGIN:STANDARD
TZOFFSETFROM:-0600
TZOFFSETTO:-0700
TZNAME:MST
DTSTART:20251102T080000
END:STANDARD
BEGIN:DAYLIGHT
TZOFFSETFROM:-0700
TZOFFSETTO:-0600
TZNAME:MDT
DTSTART:20260308T090000
END:DAYLIGHT
BEGIN:STANDARD
TZOFFSETFROM:-0600
TZOFFSETTO:-0700
TZNAME:MST
DTSTART:20261101T080000
END:STANDARD
END:VTIMEZONE
BEGIN:VEVENT
DTSTART;TZID=America/Denver:20250506T190000
DTEND;TZID=America/Denver:20250527T210000
DTSTAMP:20260424T125416
CREATED:20250117T210000Z
LAST-MODIFIED:20250117T210000Z
UID:4176-1746558000-1748379600@ardantane.org
SUMMARY:Wicca 101 May 2025
DESCRIPTION:An introduction to the Old Religion\, the Craft of the Wise; with history\, gods and goddesses\, magick and ritual\, spiritual practices\, customs and traditions\, covens and solitaries\, cosmology and myths\, the Wheel of the Year and more\, from experienced Witches. This class will be taught over four evenings online (Tuesdays in November). Students will be asked to complete assignments between classes to further their understanding and experience with the subjects covered. \nThis course is FREE to anyone interested in learning the basic principles of Wicca. Register below. \nSession of 4 2-hour classes on Tuesdays in May: May 6\, 13\, 20\, 27 from 7 p.m. to 9 p.m. MT. \nRegistration closes at 5PM on Monday\, May 5th. \nBridget and Rowan have a combined total of over 70 years of experience practicing and teaching Wicca to students of all backgrounds and skill levels. Come join them to learn the basics of this unique spiritual practice.
URL:https://ardantane.org/event/wicca-101-may-2025-2/
LOCATION:Online\, NM\, 87025\, United States
CATEGORIES:Class Info
ATTACH;FMTTYPE=image/png:https://ardantane.org/wp-content/uploads/2023/01/Wicca-101-FREE.png
END:VEVENT
END:VCALENDAR